BEGIN:VCALENDAR
VERSION:2.0
PRODID:-//achurchnearyou.com//eventfeed//EN
CALSCALE:GREGORIAN
METHOD:PUBLISH
X-WR-TIMEZONE:UTC
BEGIN:VEVENT
SUMMARY:Messy Easter
DTSTART:20250418T090000Z
DTEND:20250418T110000Z
DTSTAMP:20260419T163525Z
UID:11654062025-04-18 09:00:00+00:00achurchnearyou
CATEGORIES:
DESCRIPTION:Messy Church with an Easter theme Crafts\, Story\, Egg Hunt. H
 ot Cross Buns
LOCATION:Hoath Village Hall
URL:https://www.achurchnearyou.com/church/12005/service-and-events/events/
 1165406/
END:VEVENT
END:VCALENDAR
