BEGIN:VCALENDAR
VERSION:2.0
PRODID:-//achurchnearyou.com//eventfeed//EN
CALSCALE:GREGORIAN
METHOD:PUBLISH
X-WR-TIMEZONE:UTC
BEGIN:VEVENT
SUMMARY:Maundy Thursday service followed by the Watch
DTSTART:20250417T180000Z
DTEND:20250417T224500Z
DTSTAMP:20260420T075230Z
UID:11738482025-04-17 18:00:00+00:00achurchnearyou
CATEGORIES:
DESCRIPTION:This Maundy Thursday service is then followed by the watch unt
 il midnight.
GEO:1.400048;51.226573
LOCATION:St Andrew's\, Deal
URL:https://www.achurchnearyou.com/church/12015/service-and-events/events/
 1173848/
END:VEVENT
END:VCALENDAR
