BEGIN:VCALENDAR
VERSION:2.0
PRODID:-//achurchnearyou.com//eventfeed//EN
CALSCALE:GREGORIAN
METHOD:PUBLISH
X-WR-TIMEZONE:UTC
BEGIN:VEVENT
SUMMARY:Every Sunday at 10.30am: All Saints Church-Sung Eucharist. Weeks 1
 &3: 8am BCP Holy Communion
DTSTART;TZID=Europe/London:20260405T103000
DTEND;TZID=Europe/London:20260405T113000
DTSTAMP:20260421T031003Z
UID:6312741775381400.0achurchnearyou
CATEGORIES:
DESCRIPTION:Every Sunday at 10.30am there is a Sung Eucharist (Holy Commun
 ion) at All Saints Church and on weeks 1 and 3\, a Book of Common Prayer (
 BCP) Holy Communion also available at 8am.\nOn week 5 we will worship at A
 ll Saints Church for a Whole Parish Eucharist at 10.30am. All welcome.\n\n
 Please note that services may be subject to change so please visit our web
 site at www.allsaintsbirchington.com
GEO:1.306056;51.373657
LOCATION:All Saints
URL:http://www.allsaintsbirchington.com
END:VEVENT
BEGIN:VEVENT
SUMMARY:Every Sunday at 10.30am: All Saints Church-Sung Eucharist. Weeks 1
 &3: 8am BCP Holy Communion
DTSTART;TZID=Europe/London:20260412T103000
DTEND;TZID=Europe/London:20260412T113000
DTSTAMP:20260421T031003Z
UID:6312741775986200.0achurchnearyou
CATEGORIES:
DESCRIPTION:Every Sunday at 10.30am there is a Sung Eucharist (Holy Commun
 ion) at All Saints Church and on weeks 1 and 3\, a Book of Common Prayer (
 BCP) Holy Communion also available at 8am.\nOn week 5 we will worship at A
 ll Saints Church for a Whole Parish Eucharist at 10.30am. All welcome.\n\n
 Please note that services may be subject to change so please visit our web
 site at www.allsaintsbirchington.com
GEO:1.306056;51.373657
LOCATION:All Saints
URL:http://www.allsaintsbirchington.com
END:VEVENT
BEGIN:VEVENT
SUMMARY:Every Sunday at 10.30am: All Saints Church-Sung Eucharist. Weeks 1
 &3: 8am BCP Holy Communion
DTSTART;TZID=Europe/London:20260419T103000
DTEND;TZID=Europe/London:20260419T113000
DTSTAMP:20260421T031003Z
UID:6312741776591000.0achurchnearyou
CATEGORIES:
DESCRIPTION:Every Sunday at 10.30am there is a Sung Eucharist (Holy Commun
 ion) at All Saints Church and on weeks 1 and 3\, a Book of Common Prayer (
 BCP) Holy Communion also available at 8am.\nOn week 5 we will worship at A
 ll Saints Church for a Whole Parish Eucharist at 10.30am. All welcome.\n\n
 Please note that services may be subject to change so please visit our web
 site at www.allsaintsbirchington.com
GEO:1.306056;51.373657
LOCATION:All Saints
URL:http://www.allsaintsbirchington.com
END:VEVENT
BEGIN:VEVENT
SUMMARY:Every Sunday at 10.30am: All Saints Church-Sung Eucharist. Weeks 1
 &3: 8am BCP Holy Communion
DTSTART;TZID=Europe/London:20260426T103000
DTEND;TZID=Europe/London:20260426T113000
DTSTAMP:20260421T031003Z
UID:6312741777195800.0achurchnearyou
CATEGORIES:
DESCRIPTION:Every Sunday at 10.30am there is a Sung Eucharist (Holy Commun
 ion) at All Saints Church and on weeks 1 and 3\, a Book of Common Prayer (
 BCP) Holy Communion also available at 8am.\nOn week 5 we will worship at A
 ll Saints Church for a Whole Parish Eucharist at 10.30am. All welcome.\n\n
 Please note that services may be subject to change so please visit our web
 site at www.allsaintsbirchington.com
GEO:1.306056;51.373657
LOCATION:All Saints
URL:http://www.allsaintsbirchington.com
END:VEVENT
BEGIN:VEVENT
SUMMARY:Every Sunday at 10.30am: All Saints Church-Sung Eucharist. Weeks 1
 &3: 8am BCP Holy Communion
DTSTART;TZID=Europe/London:20260503T103000
DTEND;TZID=Europe/London:20260503T113000
DTSTAMP:20260421T031003Z
UID:6312741777800600.0achurchnearyou
CATEGORIES:
DESCRIPTION:Every Sunday at 10.30am there is a Sung Eucharist (Holy Commun
 ion) at All Saints Church and on weeks 1 and 3\, a Book of Common Prayer (
 BCP) Holy Communion also available at 8am.\nOn week 5 we will worship at A
 ll Saints Church for a Whole Parish Eucharist at 10.30am. All welcome.\n\n
 Please note that services may be subject to change so please visit our web
 site at www.allsaintsbirchington.com
GEO:1.306056;51.373657
LOCATION:All Saints
URL:http://www.allsaintsbirchington.com
END:VEVENT
BEGIN:VEVENT
SUMMARY:Every Sunday at 10.30am: All Saints Church-Sung Eucharist. Weeks 1
 &3: 8am BCP Holy Communion
DTSTART;TZID=Europe/London:20260510T103000
DTEND;TZID=Europe/London:20260510T113000
DTSTAMP:20260421T031003Z
UID:6312741778405400.0achurchnearyou
CATEGORIES:
DESCRIPTION:Every Sunday at 10.30am there is a Sung Eucharist (Holy Commun
 ion) at All Saints Church and on weeks 1 and 3\, a Book of Common Prayer (
 BCP) Holy Communion also available at 8am.\nOn week 5 we will worship at A
 ll Saints Church for a Whole Parish Eucharist at 10.30am. All welcome.\n\n
 Please note that services may be subject to change so please visit our web
 site at www.allsaintsbirchington.com
GEO:1.306056;51.373657
LOCATION:All Saints
URL:http://www.allsaintsbirchington.com
END:VEVENT
BEGIN:VEVENT
SUMMARY:Every Sunday at 10.30am: All Saints Church-Sung Eucharist. Weeks 1
 &3: 8am BCP Holy Communion
DTSTART;TZID=Europe/London:20260517T103000
DTEND;TZID=Europe/London:20260517T113000
DTSTAMP:20260421T031003Z
UID:6312741779010200.0achurchnearyou
CATEGORIES:
DESCRIPTION:Every Sunday at 10.30am there is a Sung Eucharist (Holy Commun
 ion) at All Saints Church and on weeks 1 and 3\, a Book of Common Prayer (
 BCP) Holy Communion also available at 8am.\nOn week 5 we will worship at A
 ll Saints Church for a Whole Parish Eucharist at 10.30am. All welcome.\n\n
 Please note that services may be subject to change so please visit our web
 site at www.allsaintsbirchington.com
GEO:1.306056;51.373657
LOCATION:All Saints
URL:http://www.allsaintsbirchington.com
END:VEVENT
BEGIN:VEVENT
SUMMARY:Every Sunday at 10.30am: All Saints Church-Sung Eucharist. Weeks 1
 &3: 8am BCP Holy Communion
DTSTART;TZID=Europe/London:20260524T103000
DTEND;TZID=Europe/London:20260524T113000
DTSTAMP:20260421T031003Z
UID:6312741779615000.0achurchnearyou
CATEGORIES:
DESCRIPTION:Every Sunday at 10.30am there is a Sung Eucharist (Holy Commun
 ion) at All Saints Church and on weeks 1 and 3\, a Book of Common Prayer (
 BCP) Holy Communion also available at 8am.\nOn week 5 we will worship at A
 ll Saints Church for a Whole Parish Eucharist at 10.30am. All welcome.\n\n
 Please note that services may be subject to change so please visit our web
 site at www.allsaintsbirchington.com
GEO:1.306056;51.373657
LOCATION:All Saints
URL:http://www.allsaintsbirchington.com
END:VEVENT
BEGIN:VEVENT
SUMMARY:Every Sunday at 10.30am: All Saints Church-Sung Eucharist. Weeks 1
 &3: 8am BCP Holy Communion
DTSTART;TZID=Europe/London:20260531T103000
DTEND;TZID=Europe/London:20260531T113000
DTSTAMP:20260421T031003Z
UID:6312741780219800.0achurchnearyou
CATEGORIES:
DESCRIPTION:Every Sunday at 10.30am there is a Sung Eucharist (Holy Commun
 ion) at All Saints Church and on weeks 1 and 3\, a Book of Common Prayer (
 BCP) Holy Communion also available at 8am.\nOn week 5 we will worship at A
 ll Saints Church for a Whole Parish Eucharist at 10.30am. All welcome.\n\n
 Please note that services may be subject to change so please visit our web
 site at www.allsaintsbirchington.com
GEO:1.306056;51.373657
LOCATION:All Saints
URL:http://www.allsaintsbirchington.com
END:VEVENT
BEGIN:VEVENT
SUMMARY:Every Sunday at 10.30am: All Saints Church-Sung Eucharist. Weeks 1
 &3: 8am BCP Holy Communion
DTSTART;TZID=Europe/London:20260607T103000
DTEND;TZID=Europe/London:20260607T113000
DTSTAMP:20260421T031003Z
UID:6312741780824600.0achurchnearyou
CATEGORIES:
DESCRIPTION:Every Sunday at 10.30am there is a Sung Eucharist (Holy Commun
 ion) at All Saints Church and on weeks 1 and 3\, a Book of Common Prayer (
 BCP) Holy Communion also available at 8am.\nOn week 5 we will worship at A
 ll Saints Church for a Whole Parish Eucharist at 10.30am. All welcome.\n\n
 Please note that services may be subject to change so please visit our web
 site at www.allsaintsbirchington.com
GEO:1.306056;51.373657
LOCATION:All Saints
URL:http://www.allsaintsbirchington.com
END:VEVENT
BEGIN:VEVENT
SUMMARY:Every Sunday at 10.30am: All Saints Church-Sung Eucharist. Weeks 1
 &3: 8am BCP Holy Communion
DTSTART;TZID=Europe/London:20260614T103000
DTEND;TZID=Europe/London:20260614T113000
DTSTAMP:20260421T031003Z
UID:6312741781429400.0achurchnearyou
CATEGORIES:
DESCRIPTION:Every Sunday at 10.30am there is a Sung Eucharist (Holy Commun
 ion) at All Saints Church and on weeks 1 and 3\, a Book of Common Prayer (
 BCP) Holy Communion also available at 8am.\nOn week 5 we will worship at A
 ll Saints Church for a Whole Parish Eucharist at 10.30am. All welcome.\n\n
 Please note that services may be subject to change so please visit our web
 site at www.allsaintsbirchington.com
GEO:1.306056;51.373657
LOCATION:All Saints
URL:http://www.allsaintsbirchington.com
END:VEVENT
BEGIN:VEVENT
SUMMARY:Every Sunday at 10.30am: All Saints Church-Sung Eucharist. Weeks 1
 &3: 8am BCP Holy Communion
DTSTART;TZID=Europe/London:20260621T103000
DTEND;TZID=Europe/London:20260621T113000
DTSTAMP:20260421T031003Z
UID:6312741782034200.0achurchnearyou
CATEGORIES:
DESCRIPTION:Every Sunday at 10.30am there is a Sung Eucharist (Holy Commun
 ion) at All Saints Church and on weeks 1 and 3\, a Book of Common Prayer (
 BCP) Holy Communion also available at 8am.\nOn week 5 we will worship at A
 ll Saints Church for a Whole Parish Eucharist at 10.30am. All welcome.\n\n
 Please note that services may be subject to change so please visit our web
 site at www.allsaintsbirchington.com
GEO:1.306056;51.373657
LOCATION:All Saints
URL:http://www.allsaintsbirchington.com
END:VEVENT
BEGIN:VEVENT
SUMMARY:Every Sunday at 10.30am: All Saints Church-Sung Eucharist. Weeks 1
 &3: 8am BCP Holy Communion
DTSTART;TZID=Europe/London:20260628T103000
DTEND;TZID=Europe/London:20260628T113000
DTSTAMP:20260421T031003Z
UID:6312741782639000.0achurchnearyou
CATEGORIES:
DESCRIPTION:Every Sunday at 10.30am there is a Sung Eucharist (Holy Commun
 ion) at All Saints Church and on weeks 1 and 3\, a Book of Common Prayer (
 BCP) Holy Communion also available at 8am.\nOn week 5 we will worship at A
 ll Saints Church for a Whole Parish Eucharist at 10.30am. All welcome.\n\n
 Please note that services may be subject to change so please visit our web
 site at www.allsaintsbirchington.com
GEO:1.306056;51.373657
LOCATION:All Saints
URL:http://www.allsaintsbirchington.com
END:VEVENT
BEGIN:VEVENT
SUMMARY:Every Sunday at 10.30am: All Saints Church-Sung Eucharist. Weeks 1
 &3: 8am BCP Holy Communion
DTSTART;TZID=Europe/London:20260705T103000
DTEND;TZID=Europe/London:20260705T113000
DTSTAMP:20260421T031003Z
UID:6312741783243800.0achurchnearyou
CATEGORIES:
DESCRIPTION:Every Sunday at 10.30am there is a Sung Eucharist (Holy Commun
 ion) at All Saints Church and on weeks 1 and 3\, a Book of Common Prayer (
 BCP) Holy Communion also available at 8am.\nOn week 5 we will worship at A
 ll Saints Church for a Whole Parish Eucharist at 10.30am. All welcome.\n\n
 Please note that services may be subject to change so please visit our web
 site at www.allsaintsbirchington.com
GEO:1.306056;51.373657
LOCATION:All Saints
URL:http://www.allsaintsbirchington.com
END:VEVENT
BEGIN:VEVENT
SUMMARY:Every Sunday at 10.30am: All Saints Church-Sung Eucharist. Weeks 1
 &3: 8am BCP Holy Communion
DTSTART;TZID=Europe/London:20260712T103000
DTEND;TZID=Europe/London:20260712T113000
DTSTAMP:20260421T031003Z
UID:6312741783848600.0achurchnearyou
CATEGORIES:
DESCRIPTION:Every Sunday at 10.30am there is a Sung Eucharist (Holy Commun
 ion) at All Saints Church and on weeks 1 and 3\, a Book of Common Prayer (
 BCP) Holy Communion also available at 8am.\nOn week 5 we will worship at A
 ll Saints Church for a Whole Parish Eucharist at 10.30am. All welcome.\n\n
 Please note that services may be subject to change so please visit our web
 site at www.allsaintsbirchington.com
GEO:1.306056;51.373657
LOCATION:All Saints
URL:http://www.allsaintsbirchington.com
END:VEVENT
BEGIN:VEVENT
SUMMARY:Every Sunday at 10.30am: All Saints Church-Sung Eucharist. Weeks 1
 &3: 8am BCP Holy Communion
DTSTART;TZID=Europe/London:20260719T103000
DTEND;TZID=Europe/London:20260719T113000
DTSTAMP:20260421T031003Z
UID:6312741784453400.0achurchnearyou
CATEGORIES:
DESCRIPTION:Every Sunday at 10.30am there is a Sung Eucharist (Holy Commun
 ion) at All Saints Church and on weeks 1 and 3\, a Book of Common Prayer (
 BCP) Holy Communion also available at 8am.\nOn week 5 we will worship at A
 ll Saints Church for a Whole Parish Eucharist at 10.30am. All welcome.\n\n
 Please note that services may be subject to change so please visit our web
 site at www.allsaintsbirchington.com
GEO:1.306056;51.373657
LOCATION:All Saints
URL:http://www.allsaintsbirchington.com
END:VEVENT
BEGIN:VEVENT
SUMMARY:Every Sunday at 10.30am: All Saints Church-Sung Eucharist. Weeks 1
 &3: 8am BCP Holy Communion
DTSTART;TZID=Europe/London:20260726T103000
DTEND;TZID=Europe/London:20260726T113000
DTSTAMP:20260421T031003Z
UID:6312741785058200.0achurchnearyou
CATEGORIES:
DESCRIPTION:Every Sunday at 10.30am there is a Sung Eucharist (Holy Commun
 ion) at All Saints Church and on weeks 1 and 3\, a Book of Common Prayer (
 BCP) Holy Communion also available at 8am.\nOn week 5 we will worship at A
 ll Saints Church for a Whole Parish Eucharist at 10.30am. All welcome.\n\n
 Please note that services may be subject to change so please visit our web
 site at www.allsaintsbirchington.com
GEO:1.306056;51.373657
LOCATION:All Saints
URL:http://www.allsaintsbirchington.com
END:VEVENT
BEGIN:VEVENT
SUMMARY:Every Sunday at 10.30am: All Saints Church-Sung Eucharist. Weeks 1
 &3: 8am BCP Holy Communion
DTSTART;TZID=Europe/London:20260802T103000
DTEND;TZID=Europe/London:20260802T113000
DTSTAMP:20260421T031003Z
UID:6312741785663000.0achurchnearyou
CATEGORIES:
DESCRIPTION:Every Sunday at 10.30am there is a Sung Eucharist (Holy Commun
 ion) at All Saints Church and on weeks 1 and 3\, a Book of Common Prayer (
 BCP) Holy Communion also available at 8am.\nOn week 5 we will worship at A
 ll Saints Church for a Whole Parish Eucharist at 10.30am. All welcome.\n\n
 Please note that services may be subject to change so please visit our web
 site at www.allsaintsbirchington.com
GEO:1.306056;51.373657
LOCATION:All Saints
URL:http://www.allsaintsbirchington.com
END:VEVENT
BEGIN:VEVENT
SUMMARY:Every Sunday at 10.30am: All Saints Church-Sung Eucharist. Weeks 1
 &3: 8am BCP Holy Communion
DTSTART;TZID=Europe/London:20260809T103000
DTEND;TZID=Europe/London:20260809T113000
DTSTAMP:20260421T031003Z
UID:6312741786267800.0achurchnearyou
CATEGORIES:
DESCRIPTION:Every Sunday at 10.30am there is a Sung Eucharist (Holy Commun
 ion) at All Saints Church and on weeks 1 and 3\, a Book of Common Prayer (
 BCP) Holy Communion also available at 8am.\nOn week 5 we will worship at A
 ll Saints Church for a Whole Parish Eucharist at 10.30am. All welcome.\n\n
 Please note that services may be subject to change so please visit our web
 site at www.allsaintsbirchington.com
GEO:1.306056;51.373657
LOCATION:All Saints
URL:http://www.allsaintsbirchington.com
END:VEVENT
BEGIN:VEVENT
SUMMARY:Every Sunday at 10.30am: All Saints Church-Sung Eucharist. Weeks 1
 &3: 8am BCP Holy Communion
DTSTART;TZID=Europe/London:20260816T103000
DTEND;TZID=Europe/London:20260816T113000
DTSTAMP:20260421T031003Z
UID:6312741786872600.0achurchnearyou
CATEGORIES:
DESCRIPTION:Every Sunday at 10.30am there is a Sung Eucharist (Holy Commun
 ion) at All Saints Church and on weeks 1 and 3\, a Book of Common Prayer (
 BCP) Holy Communion also available at 8am.\nOn week 5 we will worship at A
 ll Saints Church for a Whole Parish Eucharist at 10.30am. All welcome.\n\n
 Please note that services may be subject to change so please visit our web
 site at www.allsaintsbirchington.com
GEO:1.306056;51.373657
LOCATION:All Saints
URL:http://www.allsaintsbirchington.com
END:VEVENT
BEGIN:VEVENT
SUMMARY:Every Sunday at 10.30am: All Saints Church-Sung Eucharist. Weeks 1
 &3: 8am BCP Holy Communion
DTSTART;TZID=Europe/London:20260823T103000
DTEND;TZID=Europe/London:20260823T113000
DTSTAMP:20260421T031003Z
UID:6312741787477400.0achurchnearyou
CATEGORIES:
DESCRIPTION:Every Sunday at 10.30am there is a Sung Eucharist (Holy Commun
 ion) at All Saints Church and on weeks 1 and 3\, a Book of Common Prayer (
 BCP) Holy Communion also available at 8am.\nOn week 5 we will worship at A
 ll Saints Church for a Whole Parish Eucharist at 10.30am. All welcome.\n\n
 Please note that services may be subject to change so please visit our web
 site at www.allsaintsbirchington.com
GEO:1.306056;51.373657
LOCATION:All Saints
URL:http://www.allsaintsbirchington.com
END:VEVENT
BEGIN:VEVENT
SUMMARY:Every Sunday at 10.30am: All Saints Church-Sung Eucharist. Weeks 1
 &3: 8am BCP Holy Communion
DTSTART;TZID=Europe/London:20260830T103000
DTEND;TZID=Europe/London:20260830T113000
DTSTAMP:20260421T031003Z
UID:6312741788082200.0achurchnearyou
CATEGORIES:
DESCRIPTION:Every Sunday at 10.30am there is a Sung Eucharist (Holy Commun
 ion) at All Saints Church and on weeks 1 and 3\, a Book of Common Prayer (
 BCP) Holy Communion also available at 8am.\nOn week 5 we will worship at A
 ll Saints Church for a Whole Parish Eucharist at 10.30am. All welcome.\n\n
 Please note that services may be subject to change so please visit our web
 site at www.allsaintsbirchington.com
GEO:1.306056;51.373657
LOCATION:All Saints
URL:http://www.allsaintsbirchington.com
END:VEVENT
BEGIN:VEVENT
SUMMARY:Every Sunday at 10.30am: All Saints Church-Sung Eucharist. Weeks 1
 &3: 8am BCP Holy Communion
DTSTART;TZID=Europe/London:20260906T103000
DTEND;TZID=Europe/London:20260906T113000
DTSTAMP:20260421T031003Z
UID:6312741788687000.0achurchnearyou
CATEGORIES:
DESCRIPTION:Every Sunday at 10.30am there is a Sung Eucharist (Holy Commun
 ion) at All Saints Church and on weeks 1 and 3\, a Book of Common Prayer (
 BCP) Holy Communion also available at 8am.\nOn week 5 we will worship at A
 ll Saints Church for a Whole Parish Eucharist at 10.30am. All welcome.\n\n
 Please note that services may be subject to change so please visit our web
 site at www.allsaintsbirchington.com
GEO:1.306056;51.373657
LOCATION:All Saints
URL:http://www.allsaintsbirchington.com
END:VEVENT
BEGIN:VEVENT
SUMMARY:Every Sunday at 10.30am: All Saints Church-Sung Eucharist. Weeks 1
 &3: 8am BCP Holy Communion
DTSTART;TZID=Europe/London:20260913T103000
DTEND;TZID=Europe/London:20260913T113000
DTSTAMP:20260421T031003Z
UID:6312741789291800.0achurchnearyou
CATEGORIES:
DESCRIPTION:Every Sunday at 10.30am there is a Sung Eucharist (Holy Commun
 ion) at All Saints Church and on weeks 1 and 3\, a Book of Common Prayer (
 BCP) Holy Communion also available at 8am.\nOn week 5 we will worship at A
 ll Saints Church for a Whole Parish Eucharist at 10.30am. All welcome.\n\n
 Please note that services may be subject to change so please visit our web
 site at www.allsaintsbirchington.com
GEO:1.306056;51.373657
LOCATION:All Saints
URL:http://www.allsaintsbirchington.com
END:VEVENT
BEGIN:VEVENT
SUMMARY:Every Sunday at 10.30am: All Saints Church-Sung Eucharist. Weeks 1
 &3: 8am BCP Holy Communion
DTSTART;TZID=Europe/London:20260920T103000
DTEND;TZID=Europe/London:20260920T113000
DTSTAMP:20260421T031003Z
UID:6312741789896600.0achurchnearyou
CATEGORIES:
DESCRIPTION:Every Sunday at 10.30am there is a Sung Eucharist (Holy Commun
 ion) at All Saints Church and on weeks 1 and 3\, a Book of Common Prayer (
 BCP) Holy Communion also available at 8am.\nOn week 5 we will worship at A
 ll Saints Church for a Whole Parish Eucharist at 10.30am. All welcome.\n\n
 Please note that services may be subject to change so please visit our web
 site at www.allsaintsbirchington.com
GEO:1.306056;51.373657
LOCATION:All Saints
URL:http://www.allsaintsbirchington.com
END:VEVENT
BEGIN:VEVENT
SUMMARY:Every Sunday at 10.30am: All Saints Church-Sung Eucharist. Weeks 1
 &3: 8am BCP Holy Communion
DTSTART;TZID=Europe/London:20260927T103000
DTEND;TZID=Europe/London:20260927T113000
DTSTAMP:20260421T031003Z
UID:6312741790501400.0achurchnearyou
CATEGORIES:
DESCRIPTION:Every Sunday at 10.30am there is a Sung Eucharist (Holy Commun
 ion) at All Saints Church and on weeks 1 and 3\, a Book of Common Prayer (
 BCP) Holy Communion also available at 8am.\nOn week 5 we will worship at A
 ll Saints Church for a Whole Parish Eucharist at 10.30am. All welcome.\n\n
 Please note that services may be subject to change so please visit our web
 site at www.allsaintsbirchington.com
GEO:1.306056;51.373657
LOCATION:All Saints
URL:http://www.allsaintsbirchington.com
END:VEVENT
END:VCALENDAR
