BEGIN:VCALENDAR
VERSION:2.0
PRODID:-//achurchnearyou.com//eventfeed//EN
CALSCALE:GREGORIAN
METHOD:PUBLISH
X-WR-TIMEZONE:UTC
BEGIN:VEVENT
SUMMARY:Ascension Day Evening Service
DTSTART:20260514T180000Z
DTEND:20260514T191500Z
DTSTAMP:20260422T173041Z
UID:13251172026-05-14 18:00:00+00:00achurchnearyou
CATEGORIES:
DESCRIPTION:Come and join us at our joint Ascension Day service with St Ma
 ry's Ashford\n\nA service of music\, the word and communion
GEO:0.891587;51.170033
LOCATION:St Mary’s Kennington
URL:https://www.achurchnearyou.com/church/12070/service-and-events/events/
 1325117/
END:VEVENT
END:VCALENDAR
