BEGIN:VCALENDAR
VERSION:2.0
PRODID:-//achurchnearyou.com//eventfeed//EN
CALSCALE:GREGORIAN
METHOD:PUBLISH
X-WR-TIMEZONE:UTC
BEGIN:VEVENT
SUMMARY:Parish Eucharist
DTSTART:20250105T110000Z
DTEND:20250105T114500Z
DTSTAMP:20260422T075153Z
UID:11444642025-01-05 11:00:00+00:00achurchnearyou
CATEGORIES:
DESCRIPTION:everyone is welcome at our parish Eucharist from across all 3 
 of our churches and beyond.
GEO:0.771081;51.080674
LOCATION:All Saints
URL:https://www.bhhw.org.uk
END:VEVENT
END:VCALENDAR
