BEGIN:VCALENDAR
VERSION:2.0
PRODID:-//achurchnearyou.com//eventfeed//EN
CALSCALE:GREGORIAN
METHOD:PUBLISH
X-WR-TIMEZONE:UTC
BEGIN:VEVENT
SUMMARY:All Saints Day
DTSTART:20251102T110000Z
DTEND:20251102T114500Z
DTSTAMP:20260421T085738Z
UID:12413912025-11-02 11:00:00+00:00achurchnearyou
CATEGORIES:
DESCRIPTION:We celebrate all saints day at All Saints with our Parish Euch
 arist\nEveryone is welcome
GEO:0.771081;51.080674
LOCATION:All Saints
URL:https://www.achurchnearyou.com/church/12081/service-and-events/events/
 1241391/
END:VEVENT
END:VCALENDAR
