BEGIN:VCALENDAR
VERSION:2.0
PRODID:-//achurchnearyou.com//eventfeed//EN
CALSCALE:GREGORIAN
METHOD:PUBLISH
X-WR-TIMEZONE:UTC
BEGIN:VEVENT
SUMMARY:Palm Sunday 10.30am All Age Worship
DTSTART:20260329T093000Z
DTEND:20260329T103000Z
DTSTAMP:20260419T183216Z
UID:13138132026-03-29 09:30:00+00:00achurchnearyou
CATEGORIES:
DESCRIPTION:Join us for an All Age Worship service at 10.30am on Palm Sund
 ay as we start our Holy Week journey.
GEO:-0.712101;51.600911
LOCATION:Christ Church Flackwell Heath
URL:https://www.achurchnearyou.com/church/121/service-and-events/events/13
 13813/
END:VEVENT
END:VCALENDAR
