BEGIN:VCALENDAR
VERSION:2.0
PRODID:-//achurchnearyou.com//eventfeed//EN
CALSCALE:GREGORIAN
METHOD:PUBLISH
X-WR-TIMEZONE:UTC
BEGIN:VEVENT
SUMMARY:Easter Day All Age Communion
DTSTART:20260405T093000Z
DTEND:20260405T110000Z
DTSTAMP:20260419T183727Z
UID:13138272026-04-05 09:30:00+00:00achurchnearyou
CATEGORIES:
DESCRIPTION:We gather as all ages for a fun\, informal\, and joyful commun
 ion service\, with baptisms\, lasting around an hour and a half.
GEO:-0.712101;51.600911
LOCATION:Christ Church Flackwell Heath
URL:https://www.achurchnearyou.com/church/121/service-and-events/events/13
 13827/
END:VEVENT
END:VCALENDAR
