BEGIN:VCALENDAR
VERSION:2.0
PRODID:-//achurchnearyou.com//eventfeed//EN
CALSCALE:GREGORIAN
METHOD:PUBLISH
X-WR-TIMEZONE:UTC
BEGIN:VEVENT
SUMMARY:Crib Service - at St Nicholas - Christmas Eve at 3pm
DTSTART:20251224T150000Z
DTEND:20251224T160000Z
DTSTAMP:20260424T000112Z
UID:12751602025-12-24 15:00:00+00:00achurchnearyou
CATEGORIES:
DESCRIPTION:Children come in Nativity costume and help us create the Chris
 tmas story!
LOCATION:St Nicholas Church\, Sandhurst (Kent)
URL:https://www.achurchnearyou.com/church/12100/service-and-events/events/
 1275160/
END:VEVENT
END:VCALENDAR
