BEGIN:VCALENDAR
VERSION:2.0
PRODID:-//achurchnearyou.com//eventfeed//EN
CALSCALE:GREGORIAN
METHOD:PUBLISH
X-WR-TIMEZONE:UTC
BEGIN:VEVENT
SUMMARY:Sunday Club
DTSTART;TZID=Europe/London:20260517T100000
DTEND;TZID=Europe/London:20260517T110000
DTSTAMP:20260423T021038Z
UID:8610272026-05-17 10:00:00+01:00achurchnearyou
CATEGORIES:
DESCRIPTION:The Sunday Club is held on Sunday mornings during term time fr
 om 10-11am at The Lads' Club\, Rectory Lane\, Saltwood\, CT21 4QA. We have
  fun groups for children aged 3-4\, 5-7\, & 8-10 years old. Our leaders or
 ganise all sorts of art & crafts and cooking\, games and lots of drama. On
 ce a month we lead family worship at both Lympne & Saltwood Churches.
LOCATION:The Lads' Club
URL:https://www.facebook.com/Childrens-Groups-at-Lympne-and-Saltwood-Churc
 hes
END:VEVENT
BEGIN:VEVENT
SUMMARY:Sunday Club
DTSTART;TZID=Europe/London:20260531T100000
DTEND;TZID=Europe/London:20260531T110000
DTSTAMP:20260423T021038Z
UID:8610272026-05-31 10:00:00+01:00achurchnearyou
CATEGORIES:
DESCRIPTION:The Sunday Club is held on Sunday mornings during term time fr
 om 10-11am at The Lads' Club\, Rectory Lane\, Saltwood\, CT21 4QA. We have
  fun groups for children aged 3-4\, 5-7\, & 8-10 years old. Our leaders or
 ganise all sorts of art & crafts and cooking\, games and lots of drama. On
 ce a month we lead family worship at both Lympne & Saltwood Churches.
LOCATION:The Lads' Club
URL:https://www.facebook.com/Childrens-Groups-at-Lympne-and-Saltwood-Churc
 hes
END:VEVENT
BEGIN:VEVENT
SUMMARY:Sunday Club
DTSTART;TZID=Europe/London:20260621T100000
DTEND;TZID=Europe/London:20260621T110000
DTSTAMP:20260423T021038Z
UID:8610272026-06-21 10:00:00+01:00achurchnearyou
CATEGORIES:
DESCRIPTION:The Sunday Club is held on Sunday mornings during term time fr
 om 10-11am at The Lads' Club\, Rectory Lane\, Saltwood\, CT21 4QA. We have
  fun groups for children aged 3-4\, 5-7\, & 8-10 years old. Our leaders or
 ganise all sorts of art & crafts and cooking\, games and lots of drama. On
 ce a month we lead family worship at both Lympne & Saltwood Churches.
LOCATION:The Lads' Club
URL:https://www.facebook.com/Childrens-Groups-at-Lympne-and-Saltwood-Churc
 hes
END:VEVENT
BEGIN:VEVENT
SUMMARY:Sunday Club
DTSTART;TZID=Europe/London:20260719T100000
DTEND;TZID=Europe/London:20260719T110000
DTSTAMP:20260423T021038Z
UID:8610272026-07-19 10:00:00+01:00achurchnearyou
CATEGORIES:
DESCRIPTION:The Sunday Club is held on Sunday mornings during term time fr
 om 10-11am at The Lads' Club\, Rectory Lane\, Saltwood\, CT21 4QA. We have
  fun groups for children aged 3-4\, 5-7\, & 8-10 years old. Our leaders or
 ganise all sorts of art & crafts and cooking\, games and lots of drama. On
 ce a month we lead family worship at both Lympne & Saltwood Churches.
LOCATION:The Lads' Club
URL:https://www.facebook.com/Childrens-Groups-at-Lympne-and-Saltwood-Churc
 hes
END:VEVENT
BEGIN:VEVENT
SUMMARY:Sunday Club
DTSTART;TZID=Europe/London:20260816T100000
DTEND;TZID=Europe/London:20260816T110000
DTSTAMP:20260423T021038Z
UID:8610272026-08-16 10:00:00+01:00achurchnearyou
CATEGORIES:
DESCRIPTION:The Sunday Club is held on Sunday mornings during term time fr
 om 10-11am at The Lads' Club\, Rectory Lane\, Saltwood\, CT21 4QA. We have
  fun groups for children aged 3-4\, 5-7\, & 8-10 years old. Our leaders or
 ganise all sorts of art & crafts and cooking\, games and lots of drama. On
 ce a month we lead family worship at both Lympne & Saltwood Churches.
LOCATION:The Lads' Club
URL:https://www.facebook.com/Childrens-Groups-at-Lympne-and-Saltwood-Churc
 hes
END:VEVENT
BEGIN:VEVENT
SUMMARY:Sunday Club
DTSTART;TZID=Europe/London:20260830T100000
DTEND;TZID=Europe/London:20260830T110000
DTSTAMP:20260423T021038Z
UID:8610272026-08-30 10:00:00+01:00achurchnearyou
CATEGORIES:
DESCRIPTION:The Sunday Club is held on Sunday mornings during term time fr
 om 10-11am at The Lads' Club\, Rectory Lane\, Saltwood\, CT21 4QA. We have
  fun groups for children aged 3-4\, 5-7\, & 8-10 years old. Our leaders or
 ganise all sorts of art & crafts and cooking\, games and lots of drama. On
 ce a month we lead family worship at both Lympne & Saltwood Churches.
LOCATION:The Lads' Club
URL:https://www.facebook.com/Childrens-Groups-at-Lympne-and-Saltwood-Churc
 hes
END:VEVENT
BEGIN:VEVENT
SUMMARY:Sunday Club
DTSTART;TZID=Europe/London:20260920T100000
DTEND;TZID=Europe/London:20260920T110000
DTSTAMP:20260423T021038Z
UID:8610272026-09-20 10:00:00+01:00achurchnearyou
CATEGORIES:
DESCRIPTION:The Sunday Club is held on Sunday mornings during term time fr
 om 10-11am at The Lads' Club\, Rectory Lane\, Saltwood\, CT21 4QA. We have
  fun groups for children aged 3-4\, 5-7\, & 8-10 years old. Our leaders or
 ganise all sorts of art & crafts and cooking\, games and lots of drama. On
 ce a month we lead family worship at both Lympne & Saltwood Churches.
LOCATION:The Lads' Club
URL:https://www.facebook.com/Childrens-Groups-at-Lympne-and-Saltwood-Churc
 hes
END:VEVENT
BEGIN:VEVENT
SUMMARY:Sunday Club
DTSTART;TZID=Europe/London:20261018T100000
DTEND;TZID=Europe/London:20261018T110000
DTSTAMP:20260423T021038Z
UID:8610272026-10-18 10:00:00+01:00achurchnearyou
CATEGORIES:
DESCRIPTION:The Sunday Club is held on Sunday mornings during term time fr
 om 10-11am at The Lads' Club\, Rectory Lane\, Saltwood\, CT21 4QA. We have
  fun groups for children aged 3-4\, 5-7\, & 8-10 years old. Our leaders or
 ganise all sorts of art & crafts and cooking\, games and lots of drama. On
 ce a month we lead family worship at both Lympne & Saltwood Churches.
LOCATION:The Lads' Club
URL:https://www.facebook.com/Childrens-Groups-at-Lympne-and-Saltwood-Churc
 hes
END:VEVENT
BEGIN:VEVENT
SUMMARY:Sunday Club
DTSTART;TZID=Europe/London:20261115T100000
DTEND;TZID=Europe/London:20261115T110000
DTSTAMP:20260423T021038Z
UID:8610272026-11-15 10:00:00+00:00achurchnearyou
CATEGORIES:
DESCRIPTION:The Sunday Club is held on Sunday mornings during term time fr
 om 10-11am at The Lads' Club\, Rectory Lane\, Saltwood\, CT21 4QA. We have
  fun groups for children aged 3-4\, 5-7\, & 8-10 years old. Our leaders or
 ganise all sorts of art & crafts and cooking\, games and lots of drama. On
 ce a month we lead family worship at both Lympne & Saltwood Churches.
LOCATION:The Lads' Club
URL:https://www.facebook.com/Childrens-Groups-at-Lympne-and-Saltwood-Churc
 hes
END:VEVENT
BEGIN:VEVENT
SUMMARY:Sunday Club
DTSTART;TZID=Europe/London:20261129T100000
DTEND;TZID=Europe/London:20261129T110000
DTSTAMP:20260423T021038Z
UID:8610272026-11-29 10:00:00+00:00achurchnearyou
CATEGORIES:
DESCRIPTION:The Sunday Club is held on Sunday mornings during term time fr
 om 10-11am at The Lads' Club\, Rectory Lane\, Saltwood\, CT21 4QA. We have
  fun groups for children aged 3-4\, 5-7\, & 8-10 years old. Our leaders or
 ganise all sorts of art & crafts and cooking\, games and lots of drama. On
 ce a month we lead family worship at both Lympne & Saltwood Churches.
LOCATION:The Lads' Club
URL:https://www.facebook.com/Childrens-Groups-at-Lympne-and-Saltwood-Churc
 hes
END:VEVENT
BEGIN:VEVENT
SUMMARY:Sunday Club
DTSTART;TZID=Europe/London:20261220T100000
DTEND;TZID=Europe/London:20261220T110000
DTSTAMP:20260423T021038Z
UID:8610272026-12-20 10:00:00+00:00achurchnearyou
CATEGORIES:
DESCRIPTION:The Sunday Club is held on Sunday mornings during term time fr
 om 10-11am at The Lads' Club\, Rectory Lane\, Saltwood\, CT21 4QA. We have
  fun groups for children aged 3-4\, 5-7\, & 8-10 years old. Our leaders or
 ganise all sorts of art & crafts and cooking\, games and lots of drama. On
 ce a month we lead family worship at both Lympne & Saltwood Churches.
LOCATION:The Lads' Club
URL:https://www.facebook.com/Childrens-Groups-at-Lympne-and-Saltwood-Churc
 hes
END:VEVENT
BEGIN:VEVENT
SUMMARY:Sunday Club
DTSTART;TZID=Europe/London:20270117T100000
DTEND;TZID=Europe/London:20270117T110000
DTSTAMP:20260423T021038Z
UID:8610272027-01-17 10:00:00+00:00achurchnearyou
CATEGORIES:
DESCRIPTION:The Sunday Club is held on Sunday mornings during term time fr
 om 10-11am at The Lads' Club\, Rectory Lane\, Saltwood\, CT21 4QA. We have
  fun groups for children aged 3-4\, 5-7\, & 8-10 years old. Our leaders or
 ganise all sorts of art & crafts and cooking\, games and lots of drama. On
 ce a month we lead family worship at both Lympne & Saltwood Churches.
LOCATION:The Lads' Club
URL:https://www.facebook.com/Childrens-Groups-at-Lympne-and-Saltwood-Churc
 hes
END:VEVENT
BEGIN:VEVENT
SUMMARY:Sunday Club
DTSTART;TZID=Europe/London:20270131T100000
DTEND;TZID=Europe/London:20270131T110000
DTSTAMP:20260423T021038Z
UID:8610272027-01-31 10:00:00+00:00achurchnearyou
CATEGORIES:
DESCRIPTION:The Sunday Club is held on Sunday mornings during term time fr
 om 10-11am at The Lads' Club\, Rectory Lane\, Saltwood\, CT21 4QA. We have
  fun groups for children aged 3-4\, 5-7\, & 8-10 years old. Our leaders or
 ganise all sorts of art & crafts and cooking\, games and lots of drama. On
 ce a month we lead family worship at both Lympne & Saltwood Churches.
LOCATION:The Lads' Club
URL:https://www.facebook.com/Childrens-Groups-at-Lympne-and-Saltwood-Churc
 hes
END:VEVENT
BEGIN:VEVENT
SUMMARY:Sunday Club
DTSTART;TZID=Europe/London:20270221T100000
DTEND;TZID=Europe/London:20270221T110000
DTSTAMP:20260423T021038Z
UID:8610272027-02-21 10:00:00+00:00achurchnearyou
CATEGORIES:
DESCRIPTION:The Sunday Club is held on Sunday mornings during term time fr
 om 10-11am at The Lads' Club\, Rectory Lane\, Saltwood\, CT21 4QA. We have
  fun groups for children aged 3-4\, 5-7\, & 8-10 years old. Our leaders or
 ganise all sorts of art & crafts and cooking\, games and lots of drama. On
 ce a month we lead family worship at both Lympne & Saltwood Churches.
LOCATION:The Lads' Club
URL:https://www.facebook.com/Childrens-Groups-at-Lympne-and-Saltwood-Churc
 hes
END:VEVENT
BEGIN:VEVENT
SUMMARY:Sunday Club
DTSTART;TZID=Europe/London:20270321T100000
DTEND;TZID=Europe/London:20270321T110000
DTSTAMP:20260423T021038Z
UID:8610272027-03-21 10:00:00+00:00achurchnearyou
CATEGORIES:
DESCRIPTION:The Sunday Club is held on Sunday mornings during term time fr
 om 10-11am at The Lads' Club\, Rectory Lane\, Saltwood\, CT21 4QA. We have
  fun groups for children aged 3-4\, 5-7\, & 8-10 years old. Our leaders or
 ganise all sorts of art & crafts and cooking\, games and lots of drama. On
 ce a month we lead family worship at both Lympne & Saltwood Churches.
LOCATION:The Lads' Club
URL:https://www.facebook.com/Childrens-Groups-at-Lympne-and-Saltwood-Churc
 hes
END:VEVENT
BEGIN:VEVENT
SUMMARY:Sunday Club
DTSTART;TZID=Europe/London:20270418T100000
DTEND;TZID=Europe/London:20270418T110000
DTSTAMP:20260423T021038Z
UID:8610272027-04-18 10:00:00+01:00achurchnearyou
CATEGORIES:
DESCRIPTION:The Sunday Club is held on Sunday mornings during term time fr
 om 10-11am at The Lads' Club\, Rectory Lane\, Saltwood\, CT21 4QA. We have
  fun groups for children aged 3-4\, 5-7\, & 8-10 years old. Our leaders or
 ganise all sorts of art & crafts and cooking\, games and lots of drama. On
 ce a month we lead family worship at both Lympne & Saltwood Churches.
LOCATION:The Lads' Club
URL:https://www.facebook.com/Childrens-Groups-at-Lympne-and-Saltwood-Churc
 hes
END:VEVENT
END:VCALENDAR
