BEGIN:VCALENDAR
VERSION:2.0
PRODID:-//achurchnearyou.com//eventfeed//EN
CALSCALE:GREGORIAN
METHOD:PUBLISH
X-WR-TIMEZONE:UTC
BEGIN:VEVENT
SUMMARY:A Celtic Lent: "The Defenceless"
DTSTART;TZID=Europe/London:20260401T190000
DTEND;TZID=Europe/London:20260401T193000
DTSTAMP:20260419T235203Z
UID:12916291775066400.0achurchnearyou
CATEGORIES:
DESCRIPTION:Join us as we journey through lent with this series of short r
 eflective services. Whether you are able to attend all instalments of this
  series or not\, we hope to welcome you to be a part of this journey throu
 gh Lent and Passiontide as we anticipate the great festival of Easter.
LOCATION:St. Mildred’s Tenterden
URL:https://www.achurchnearyou.com/church/12127/service-and-events/events/
 1291629/
END:VEVENT
BEGIN:VEVENT
SUMMARY:A Celtic Lent: "The Victim"
DTSTART;TZID=Europe/London:20260403T190000
DTEND;TZID=Europe/London:20260403T193000
DTSTAMP:20260419T235203Z
UID:13127561775239200.0achurchnearyou
CATEGORIES:
DESCRIPTION:Join us as we journey through lent with this series of short r
 eflective services. Whether you are able to attend all instalments of this
  series or not\, we hope to welcome you to be a part of this journey throu
 gh Lent\, Passiontide and Good Friday\, until the great festival of Easter
 .
LOCATION:St. Mildred’s Tenterden
URL:https://www.achurchnearyou.com/church/12127/service-and-events/events/
 1312756/
END:VEVENT
BEGIN:VEVENT
SUMMARY:A Celtic Lent: "The Mystery"
DTSTART;TZID=Europe/London:20260404T090000
DTEND;TZID=Europe/London:20260404T100000
DTSTAMP:20260419T235203Z
UID:13127661775289600.0achurchnearyou
CATEGORIES:
DESCRIPTION:Join us as we journey through lent with this series of short r
 eflective services\, each morning edition being followed by a light breakf
 ast. Whether you are able to attend all instalments of this series or not\
 , we hope to welcome you to be a part of this journey through Lent\, Passi
 ontide and Holy Week until the great festival of Easter.
LOCATION:St. Mildred’s Tenterden
URL:https://www.achurchnearyou.com/church/12127/service-and-events/events/
 1312766/
END:VEVENT
BEGIN:VEVENT
SUMMARY:Easter Dawn Service
DTSTART;TZID=Europe/London:20260405T060000
DTEND;TZID=Europe/London:20260405T063000
DTSTAMP:20260419T235203Z
UID:13113861775365200.0achurchnearyou
CATEGORIES:
DESCRIPTION:Greet the dawn of Easter Day and celebrate the Good News of Je
 sus' resurrection. Followed by breakfast (optional).
LOCATION:St John the Baptist\, Smallhythe
URL:https://www.achurchnearyou.com/church/12127/service-and-events/events/
 1311386/
END:VEVENT
BEGIN:VEVENT
SUMMARY:Choral Evensong
DTSTART;TZID=Europe/London:20260405T180000
DTEND;TZID=Europe/London:20260405T190000
DTSTAMP:20260419T235203Z
UID:9333141775408400.0achurchnearyou
CATEGORIES:
DESCRIPTION:A sung service which uses traditional language (Book of Common
  Prayer 1662) with hymns.  Note the varying start time of this service dep
 endant on the time of year.
LOCATION:St Mary the Virgin\, Stone
URL:https://www.tentroxchurches.co.uk/churches/stone-st-mary-the-virgin/
END:VEVENT
BEGIN:VEVENT
SUMMARY:Little Sparrows Baby and Toddler Group (Term-Time)
DTSTART;TZID=Europe/London:20260406T090000
DTEND;TZID=Europe/London:20260406T110000
DTSTAMP:20260419T235203Z
UID:9763881775462400.0achurchnearyou
CATEGORIES:
DESCRIPTION:A friendly and welcoming group for babies\, toddlers and their
  grown-ups!\n\nPlenty of toys to play with\, toilets and changing faciliti
 es available\, story and song-time\, a prepared craft each week and health
 y snacks.  Plus hot drinks and biscuits for adults.  Free to attend.  Free
  parking in the car park at the end of church road.
LOCATION:St Mildred’s Church Hall
URL:https://www.facebook.com/littlesparrowsgroup/
END:VEVENT
BEGIN:VEVENT
SUMMARY:Little Sparrows Baby and Toddler Group (Term-Time)
DTSTART;TZID=Europe/London:20260413T090000
DTEND;TZID=Europe/London:20260413T110000
DTSTAMP:20260419T235203Z
UID:9763881776067200.0achurchnearyou
CATEGORIES:
DESCRIPTION:A friendly and welcoming group for babies\, toddlers and their
  grown-ups!\n\nPlenty of toys to play with\, toilets and changing faciliti
 es available\, story and song-time\, a prepared craft each week and health
 y snacks.  Plus hot drinks and biscuits for adults.  Free to attend.  Free
  parking in the car park at the end of church road.
LOCATION:St Mildred’s Church Hall
URL:https://www.facebook.com/littlesparrowsgroup/
END:VEVENT
BEGIN:VEVENT
SUMMARY:Benefice Choral Evensong
DTSTART;TZID=Europe/London:20260419T180000
DTEND;TZID=Europe/London:20260419T190000
DTSTAMP:20260419T235203Z
UID:12036841776618000.0achurchnearyou
CATEGORIES:
DESCRIPTION:A joint evening service for the whole Benefice.
LOCATION:St. Michael and All Angels\, St. Michael’s
URL:https://www.achurchnearyou.com/church/12127/service-and-events/events/
 1203684/
END:VEVENT
BEGIN:VEVENT
SUMMARY:Little Sparrows Baby and Toddler Group (Term-Time)
DTSTART;TZID=Europe/London:20260420T090000
DTEND;TZID=Europe/London:20260420T110000
DTSTAMP:20260419T235203Z
UID:9763881776672000.0achurchnearyou
CATEGORIES:
DESCRIPTION:A friendly and welcoming group for babies\, toddlers and their
  grown-ups!\n\nPlenty of toys to play with\, toilets and changing faciliti
 es available\, story and song-time\, a prepared craft each week and health
 y snacks.  Plus hot drinks and biscuits for adults.  Free to attend.  Free
  parking in the car park at the end of church road.
LOCATION:St Mildred’s Church Hall
URL:https://www.facebook.com/littlesparrowsgroup/
END:VEVENT
BEGIN:VEVENT
SUMMARY:Little Sparrows Baby and Toddler Group (Term-Time)
DTSTART;TZID=Europe/London:20260427T090000
DTEND;TZID=Europe/London:20260427T110000
DTSTAMP:20260419T235203Z
UID:9763881777276800.0achurchnearyou
CATEGORIES:
DESCRIPTION:A friendly and welcoming group for babies\, toddlers and their
  grown-ups!\n\nPlenty of toys to play with\, toilets and changing faciliti
 es available\, story and song-time\, a prepared craft each week and health
 y snacks.  Plus hot drinks and biscuits for adults.  Free to attend.  Free
  parking in the car park at the end of church road.
LOCATION:St Mildred’s Church Hall
URL:https://www.facebook.com/littlesparrowsgroup/
END:VEVENT
BEGIN:VEVENT
SUMMARY:Choral Evensong
DTSTART;TZID=Europe/London:20260503T180000
DTEND;TZID=Europe/London:20260503T190000
DTSTAMP:20260419T235203Z
UID:9333141777827600.0achurchnearyou
CATEGORIES:
DESCRIPTION:A sung service which uses traditional language (Book of Common
  Prayer 1662) with hymns.  Note the varying start time of this service dep
 endant on the time of year.
LOCATION:St Mary the Virgin\, Stone
URL:https://www.tentroxchurches.co.uk/churches/stone-st-mary-the-virgin/
END:VEVENT
BEGIN:VEVENT
SUMMARY:Little Sparrows Baby and Toddler Group (Term-Time)
DTSTART;TZID=Europe/London:20260504T090000
DTEND;TZID=Europe/London:20260504T110000
DTSTAMP:20260419T235203Z
UID:9763881777881600.0achurchnearyou
CATEGORIES:
DESCRIPTION:A friendly and welcoming group for babies\, toddlers and their
  grown-ups!\n\nPlenty of toys to play with\, toilets and changing faciliti
 es available\, story and song-time\, a prepared craft each week and health
 y snacks.  Plus hot drinks and biscuits for adults.  Free to attend.  Free
  parking in the car park at the end of church road.
LOCATION:St Mildred’s Church Hall
URL:https://www.facebook.com/littlesparrowsgroup/
END:VEVENT
BEGIN:VEVENT
SUMMARY:Little Sparrows Baby and Toddler Group (Term-Time)
DTSTART;TZID=Europe/London:20260511T090000
DTEND;TZID=Europe/London:20260511T110000
DTSTAMP:20260419T235203Z
UID:9763881778486400.0achurchnearyou
CATEGORIES:
DESCRIPTION:A friendly and welcoming group for babies\, toddlers and their
  grown-ups!\n\nPlenty of toys to play with\, toilets and changing faciliti
 es available\, story and song-time\, a prepared craft each week and health
 y snacks.  Plus hot drinks and biscuits for adults.  Free to attend.  Free
  parking in the car park at the end of church road.
LOCATION:St Mildred’s Church Hall
URL:https://www.facebook.com/littlesparrowsgroup/
END:VEVENT
BEGIN:VEVENT
SUMMARY:Little Sparrows Baby and Toddler Group (Term-Time)
DTSTART;TZID=Europe/London:20260518T090000
DTEND;TZID=Europe/London:20260518T110000
DTSTAMP:20260419T235203Z
UID:9763881779091200.0achurchnearyou
CATEGORIES:
DESCRIPTION:A friendly and welcoming group for babies\, toddlers and their
  grown-ups!\n\nPlenty of toys to play with\, toilets and changing faciliti
 es available\, story and song-time\, a prepared craft each week and health
 y snacks.  Plus hot drinks and biscuits for adults.  Free to attend.  Free
  parking in the car park at the end of church road.
LOCATION:St Mildred’s Church Hall
URL:https://www.facebook.com/littlesparrowsgroup/
END:VEVENT
BEGIN:VEVENT
SUMMARY:Little Sparrows Baby and Toddler Group (Term-Time)
DTSTART;TZID=Europe/London:20260525T090000
DTEND;TZID=Europe/London:20260525T110000
DTSTAMP:20260419T235203Z
UID:9763881779696000.0achurchnearyou
CATEGORIES:
DESCRIPTION:A friendly and welcoming group for babies\, toddlers and their
  grown-ups!\n\nPlenty of toys to play with\, toilets and changing faciliti
 es available\, story and song-time\, a prepared craft each week and health
 y snacks.  Plus hot drinks and biscuits for adults.  Free to attend.  Free
  parking in the car park at the end of church road.
LOCATION:St Mildred’s Church Hall
URL:https://www.facebook.com/littlesparrowsgroup/
END:VEVENT
BEGIN:VEVENT
SUMMARY:Little Sparrows Baby and Toddler Group (Term-Time)
DTSTART;TZID=Europe/London:20260601T090000
DTEND;TZID=Europe/London:20260601T110000
DTSTAMP:20260419T235203Z
UID:9763881780300800.0achurchnearyou
CATEGORIES:
DESCRIPTION:A friendly and welcoming group for babies\, toddlers and their
  grown-ups!\n\nPlenty of toys to play with\, toilets and changing faciliti
 es available\, story and song-time\, a prepared craft each week and health
 y snacks.  Plus hot drinks and biscuits for adults.  Free to attend.  Free
  parking in the car park at the end of church road.
LOCATION:St Mildred’s Church Hall
URL:https://www.facebook.com/littlesparrowsgroup/
END:VEVENT
BEGIN:VEVENT
SUMMARY:Choral Evensong
DTSTART;TZID=Europe/London:20260607T180000
DTEND;TZID=Europe/London:20260607T190000
DTSTAMP:20260419T235203Z
UID:9333141780851600.0achurchnearyou
CATEGORIES:
DESCRIPTION:A sung service which uses traditional language (Book of Common
  Prayer 1662) with hymns.  Note the varying start time of this service dep
 endant on the time of year.
LOCATION:St Mary the Virgin\, Stone
URL:https://www.tentroxchurches.co.uk/churches/stone-st-mary-the-virgin/
END:VEVENT
BEGIN:VEVENT
SUMMARY:Little Sparrows Baby and Toddler Group (Term-Time)
DTSTART;TZID=Europe/London:20260608T090000
DTEND;TZID=Europe/London:20260608T110000
DTSTAMP:20260419T235203Z
UID:9763881780905600.0achurchnearyou
CATEGORIES:
DESCRIPTION:A friendly and welcoming group for babies\, toddlers and their
  grown-ups!\n\nPlenty of toys to play with\, toilets and changing faciliti
 es available\, story and song-time\, a prepared craft each week and health
 y snacks.  Plus hot drinks and biscuits for adults.  Free to attend.  Free
  parking in the car park at the end of church road.
LOCATION:St Mildred’s Church Hall
URL:https://www.facebook.com/littlesparrowsgroup/
END:VEVENT
BEGIN:VEVENT
SUMMARY:Little Sparrows Baby and Toddler Group (Term-Time)
DTSTART;TZID=Europe/London:20260615T090000
DTEND;TZID=Europe/London:20260615T110000
DTSTAMP:20260419T235203Z
UID:9763881781510400.0achurchnearyou
CATEGORIES:
DESCRIPTION:A friendly and welcoming group for babies\, toddlers and their
  grown-ups!\n\nPlenty of toys to play with\, toilets and changing faciliti
 es available\, story and song-time\, a prepared craft each week and health
 y snacks.  Plus hot drinks and biscuits for adults.  Free to attend.  Free
  parking in the car park at the end of church road.
LOCATION:St Mildred’s Church Hall
URL:https://www.facebook.com/littlesparrowsgroup/
END:VEVENT
BEGIN:VEVENT
SUMMARY:Little Sparrows Baby and Toddler Group (Term-Time)
DTSTART;TZID=Europe/London:20260622T090000
DTEND;TZID=Europe/London:20260622T110000
DTSTAMP:20260419T235203Z
UID:9763881782115200.0achurchnearyou
CATEGORIES:
DESCRIPTION:A friendly and welcoming group for babies\, toddlers and their
  grown-ups!\n\nPlenty of toys to play with\, toilets and changing faciliti
 es available\, story and song-time\, a prepared craft each week and health
 y snacks.  Plus hot drinks and biscuits for adults.  Free to attend.  Free
  parking in the car park at the end of church road.
LOCATION:St Mildred’s Church Hall
URL:https://www.facebook.com/littlesparrowsgroup/
END:VEVENT
BEGIN:VEVENT
SUMMARY:Little Sparrows Baby and Toddler Group (Term-Time)
DTSTART;TZID=Europe/London:20260629T090000
DTEND;TZID=Europe/London:20260629T110000
DTSTAMP:20260419T235203Z
UID:9763881782720000.0achurchnearyou
CATEGORIES:
DESCRIPTION:A friendly and welcoming group for babies\, toddlers and their
  grown-ups!\n\nPlenty of toys to play with\, toilets and changing faciliti
 es available\, story and song-time\, a prepared craft each week and health
 y snacks.  Plus hot drinks and biscuits for adults.  Free to attend.  Free
  parking in the car park at the end of church road.
LOCATION:St Mildred’s Church Hall
URL:https://www.facebook.com/littlesparrowsgroup/
END:VEVENT
BEGIN:VEVENT
SUMMARY:Choral Evensong
DTSTART;TZID=Europe/London:20260705T180000
DTEND;TZID=Europe/London:20260705T190000
DTSTAMP:20260419T235203Z
UID:9333141783270800.0achurchnearyou
CATEGORIES:
DESCRIPTION:A sung service which uses traditional language (Book of Common
  Prayer 1662) with hymns.  Note the varying start time of this service dep
 endant on the time of year.
LOCATION:St Mary the Virgin\, Stone
URL:https://www.tentroxchurches.co.uk/churches/stone-st-mary-the-virgin/
END:VEVENT
BEGIN:VEVENT
SUMMARY:Little Sparrows Baby and Toddler Group (Term-Time)
DTSTART;TZID=Europe/London:20260706T090000
DTEND;TZID=Europe/London:20260706T110000
DTSTAMP:20260419T235203Z
UID:9763881783324800.0achurchnearyou
CATEGORIES:
DESCRIPTION:A friendly and welcoming group for babies\, toddlers and their
  grown-ups!\n\nPlenty of toys to play with\, toilets and changing faciliti
 es available\, story and song-time\, a prepared craft each week and health
 y snacks.  Plus hot drinks and biscuits for adults.  Free to attend.  Free
  parking in the car park at the end of church road.
LOCATION:St Mildred’s Church Hall
URL:https://www.facebook.com/littlesparrowsgroup/
END:VEVENT
BEGIN:VEVENT
SUMMARY:Little Sparrows Baby and Toddler Group (Term-Time)
DTSTART;TZID=Europe/London:20260713T090000
DTEND;TZID=Europe/London:20260713T110000
DTSTAMP:20260419T235203Z
UID:9763881783929600.0achurchnearyou
CATEGORIES:
DESCRIPTION:A friendly and welcoming group for babies\, toddlers and their
  grown-ups!\n\nPlenty of toys to play with\, toilets and changing faciliti
 es available\, story and song-time\, a prepared craft each week and health
 y snacks.  Plus hot drinks and biscuits for adults.  Free to attend.  Free
  parking in the car park at the end of church road.
LOCATION:St Mildred’s Church Hall
URL:https://www.facebook.com/littlesparrowsgroup/
END:VEVENT
BEGIN:VEVENT
SUMMARY:Little Sparrows Baby and Toddler Group (Term-Time)
DTSTART;TZID=Europe/London:20260720T090000
DTEND;TZID=Europe/London:20260720T110000
DTSTAMP:20260419T235203Z
UID:9763881784534400.0achurchnearyou
CATEGORIES:
DESCRIPTION:A friendly and welcoming group for babies\, toddlers and their
  grown-ups!\n\nPlenty of toys to play with\, toilets and changing faciliti
 es available\, story and song-time\, a prepared craft each week and health
 y snacks.  Plus hot drinks and biscuits for adults.  Free to attend.  Free
  parking in the car park at the end of church road.
LOCATION:St Mildred’s Church Hall
URL:https://www.facebook.com/littlesparrowsgroup/
END:VEVENT
BEGIN:VEVENT
SUMMARY:Little Sparrows Baby and Toddler Group (Term-Time)
DTSTART;TZID=Europe/London:20260727T090000
DTEND;TZID=Europe/London:20260727T110000
DTSTAMP:20260419T235203Z
UID:9763881785139200.0achurchnearyou
CATEGORIES:
DESCRIPTION:A friendly and welcoming group for babies\, toddlers and their
  grown-ups!\n\nPlenty of toys to play with\, toilets and changing faciliti
 es available\, story and song-time\, a prepared craft each week and health
 y snacks.  Plus hot drinks and biscuits for adults.  Free to attend.  Free
  parking in the car park at the end of church road.
LOCATION:St Mildred’s Church Hall
URL:https://www.facebook.com/littlesparrowsgroup/
END:VEVENT
BEGIN:VEVENT
SUMMARY:Choral Evensong
DTSTART;TZID=Europe/London:20260802T180000
DTEND;TZID=Europe/London:20260802T190000
DTSTAMP:20260419T235203Z
UID:9333141785690000.0achurchnearyou
CATEGORIES:
DESCRIPTION:A sung service which uses traditional language (Book of Common
  Prayer 1662) with hymns.  Note the varying start time of this service dep
 endant on the time of year.
LOCATION:St Mary the Virgin\, Stone
URL:https://www.tentroxchurches.co.uk/churches/stone-st-mary-the-virgin/
END:VEVENT
BEGIN:VEVENT
SUMMARY:Little Sparrows Baby and Toddler Group (Term-Time)
DTSTART;TZID=Europe/London:20260803T090000
DTEND;TZID=Europe/London:20260803T110000
DTSTAMP:20260419T235203Z
UID:9763881785744000.0achurchnearyou
CATEGORIES:
DESCRIPTION:A friendly and welcoming group for babies\, toddlers and their
  grown-ups!\n\nPlenty of toys to play with\, toilets and changing faciliti
 es available\, story and song-time\, a prepared craft each week and health
 y snacks.  Plus hot drinks and biscuits for adults.  Free to attend.  Free
  parking in the car park at the end of church road.
LOCATION:St Mildred’s Church Hall
URL:https://www.facebook.com/littlesparrowsgroup/
END:VEVENT
BEGIN:VEVENT
SUMMARY:Little Sparrows Baby and Toddler Group (Term-Time)
DTSTART;TZID=Europe/London:20260810T090000
DTEND;TZID=Europe/London:20260810T110000
DTSTAMP:20260419T235203Z
UID:9763881786348800.0achurchnearyou
CATEGORIES:
DESCRIPTION:A friendly and welcoming group for babies\, toddlers and their
  grown-ups!\n\nPlenty of toys to play with\, toilets and changing faciliti
 es available\, story and song-time\, a prepared craft each week and health
 y snacks.  Plus hot drinks and biscuits for adults.  Free to attend.  Free
  parking in the car park at the end of church road.
LOCATION:St Mildred’s Church Hall
URL:https://www.facebook.com/littlesparrowsgroup/
END:VEVENT
BEGIN:VEVENT
SUMMARY:Little Sparrows Baby and Toddler Group (Term-Time)
DTSTART;TZID=Europe/London:20260817T090000
DTEND;TZID=Europe/London:20260817T110000
DTSTAMP:20260419T235203Z
UID:9763881786953600.0achurchnearyou
CATEGORIES:
DESCRIPTION:A friendly and welcoming group for babies\, toddlers and their
  grown-ups!\n\nPlenty of toys to play with\, toilets and changing faciliti
 es available\, story and song-time\, a prepared craft each week and health
 y snacks.  Plus hot drinks and biscuits for adults.  Free to attend.  Free
  parking in the car park at the end of church road.
LOCATION:St Mildred’s Church Hall
URL:https://www.facebook.com/littlesparrowsgroup/
END:VEVENT
BEGIN:VEVENT
SUMMARY:Little Sparrows Baby and Toddler Group (Term-Time)
DTSTART;TZID=Europe/London:20260824T090000
DTEND;TZID=Europe/London:20260824T110000
DTSTAMP:20260419T235203Z
UID:9763881787558400.0achurchnearyou
CATEGORIES:
DESCRIPTION:A friendly and welcoming group for babies\, toddlers and their
  grown-ups!\n\nPlenty of toys to play with\, toilets and changing faciliti
 es available\, story and song-time\, a prepared craft each week and health
 y snacks.  Plus hot drinks and biscuits for adults.  Free to attend.  Free
  parking in the car park at the end of church road.
LOCATION:St Mildred’s Church Hall
URL:https://www.facebook.com/littlesparrowsgroup/
END:VEVENT
BEGIN:VEVENT
SUMMARY:Little Sparrows Baby and Toddler Group (Term-Time)
DTSTART;TZID=Europe/London:20260831T090000
DTEND;TZID=Europe/London:20260831T110000
DTSTAMP:20260419T235203Z
UID:9763881788163200.0achurchnearyou
CATEGORIES:
DESCRIPTION:A friendly and welcoming group for babies\, toddlers and their
  grown-ups!\n\nPlenty of toys to play with\, toilets and changing faciliti
 es available\, story and song-time\, a prepared craft each week and health
 y snacks.  Plus hot drinks and biscuits for adults.  Free to attend.  Free
  parking in the car park at the end of church road.
LOCATION:St Mildred’s Church Hall
URL:https://www.facebook.com/littlesparrowsgroup/
END:VEVENT
BEGIN:VEVENT
SUMMARY:Choral Evensong
DTSTART;TZID=Europe/London:20260906T180000
DTEND;TZID=Europe/London:20260906T190000
DTSTAMP:20260419T235203Z
UID:9333141788714000.0achurchnearyou
CATEGORIES:
DESCRIPTION:A sung service which uses traditional language (Book of Common
  Prayer 1662) with hymns.  Note the varying start time of this service dep
 endant on the time of year.
LOCATION:St Mary the Virgin\, Stone
URL:https://www.tentroxchurches.co.uk/churches/stone-st-mary-the-virgin/
END:VEVENT
BEGIN:VEVENT
SUMMARY:Little Sparrows Baby and Toddler Group (Term-Time)
DTSTART;TZID=Europe/London:20260907T090000
DTEND;TZID=Europe/London:20260907T110000
DTSTAMP:20260419T235203Z
UID:9763881788768000.0achurchnearyou
CATEGORIES:
DESCRIPTION:A friendly and welcoming group for babies\, toddlers and their
  grown-ups!\n\nPlenty of toys to play with\, toilets and changing faciliti
 es available\, story and song-time\, a prepared craft each week and health
 y snacks.  Plus hot drinks and biscuits for adults.  Free to attend.  Free
  parking in the car park at the end of church road.
LOCATION:St Mildred’s Church Hall
URL:https://www.facebook.com/littlesparrowsgroup/
END:VEVENT
BEGIN:VEVENT
SUMMARY:Little Sparrows Baby and Toddler Group (Term-Time)
DTSTART;TZID=Europe/London:20260914T090000
DTEND;TZID=Europe/London:20260914T110000
DTSTAMP:20260419T235203Z
UID:9763881789372800.0achurchnearyou
CATEGORIES:
DESCRIPTION:A friendly and welcoming group for babies\, toddlers and their
  grown-ups!\n\nPlenty of toys to play with\, toilets and changing faciliti
 es available\, story and song-time\, a prepared craft each week and health
 y snacks.  Plus hot drinks and biscuits for adults.  Free to attend.  Free
  parking in the car park at the end of church road.
LOCATION:St Mildred’s Church Hall
URL:https://www.facebook.com/littlesparrowsgroup/
END:VEVENT
BEGIN:VEVENT
SUMMARY:Little Sparrows Baby and Toddler Group (Term-Time)
DTSTART;TZID=Europe/London:20260921T090000
DTEND;TZID=Europe/London:20260921T110000
DTSTAMP:20260419T235203Z
UID:9763881789977600.0achurchnearyou
CATEGORIES:
DESCRIPTION:A friendly and welcoming group for babies\, toddlers and their
  grown-ups!\n\nPlenty of toys to play with\, toilets and changing faciliti
 es available\, story and song-time\, a prepared craft each week and health
 y snacks.  Plus hot drinks and biscuits for adults.  Free to attend.  Free
  parking in the car park at the end of church road.
LOCATION:St Mildred’s Church Hall
URL:https://www.facebook.com/littlesparrowsgroup/
END:VEVENT
BEGIN:VEVENT
SUMMARY:Little Sparrows Baby and Toddler Group (Term-Time)
DTSTART;TZID=Europe/London:20260928T090000
DTEND;TZID=Europe/London:20260928T110000
DTSTAMP:20260419T235203Z
UID:9763881790582400.0achurchnearyou
CATEGORIES:
DESCRIPTION:A friendly and welcoming group for babies\, toddlers and their
  grown-ups!\n\nPlenty of toys to play with\, toilets and changing faciliti
 es available\, story and song-time\, a prepared craft each week and health
 y snacks.  Plus hot drinks and biscuits for adults.  Free to attend.  Free
  parking in the car park at the end of church road.
LOCATION:St Mildred’s Church Hall
URL:https://www.facebook.com/littlesparrowsgroup/
END:VEVENT
END:VCALENDAR
