BEGIN:VCALENDAR
VERSION:2.0
PRODID:-//achurchnearyou.com//eventfeed//EN
CALSCALE:GREGORIAN
METHOD:PUBLISH
X-WR-TIMEZONE:UTC
BEGIN:VEVENT
SUMMARY:Easter Sunday
DTSTART:20250420T080000Z
DTEND:20250420T083000Z
DTSTAMP:20260424T122249Z
UID:11717222025-04-20 08:00:00+00:00achurchnearyou
CATEGORIES:
DESCRIPTION:Easter Sunday 20th April - 9.00am Sunrise Service with Salvati
 on Army\, Bapchild school field
LOCATION:Bapchild School Field
URL:https://www.achurchnearyou.com/church/12130/service-and-events/events/
 1171722/
END:VEVENT
END:VCALENDAR
