BEGIN:VCALENDAR
VERSION:2.0
PRODID:-//achurchnearyou.com//eventfeed//EN
CALSCALE:GREGORIAN
METHOD:PUBLISH
X-WR-TIMEZONE:UTC
BEGIN:VEVENT
SUMMARY:Harvest Thanksgiving
DTSTART:20251005T090000Z
DTEND:20251005T100000Z
DTSTAMP:20260424T003856Z
UID:12269322025-10-05 09:00:00+00:00achurchnearyou
CATEGORIES:
DESCRIPTION:Harvest Thanksgiving Service\nSuitable for all ages\, a chance
  to celebrate the season of Harvest\nIf you would like to bring a donation
  please bring long-life items for the food cupboard such as tins or packet
 s. All donations will be donated to the Swale Food Bank\nhttps://swale.foo
 dbank.org.uk/
GEO:0.76523;51.333146
LOCATION:St Laurence\, Bapchild.
URL:https://www.achurchnearyou.com/church/12130/service-and-events/events/
 1226932/
END:VEVENT
END:VCALENDAR
