BEGIN:VCALENDAR
VERSION:2.0
PRODID:-//achurchnearyou.com//eventfeed//EN
CALSCALE:GREGORIAN
METHOD:PUBLISH
X-WR-TIMEZONE:UTC
BEGIN:VEVENT
SUMMARY:Carols at the Cribside
DTSTART:20251224T153000Z
DTEND:20251224T163000Z
DTSTAMP:20260423T230431Z
UID:12362032025-12-24 15:30:00+00:00achurchnearyou
CATEGORIES:
DESCRIPTION:Christmas Eve Carol Service
GEO:0.76523;51.333146
LOCATION:St Laurence\, Bapchild.
URL:https://www.achurchnearyou.com/church/12130/service-and-events/events/
 1236203/
END:VEVENT
END:VCALENDAR
