BEGIN:VCALENDAR
VERSION:2.0
PRODID:-//achurchnearyou.com//eventfeed//EN
CALSCALE:GREGORIAN
METHOD:PUBLISH
X-WR-TIMEZONE:UTC
BEGIN:VEVENT
SUMMARY:Carols by Candlelight
DTSTART:20251214T180000Z
DTEND:20251214T190000Z
DTSTAMP:20260425T142634Z
UID:12687842025-12-14 18:00:00+00:00achurchnearyou
CATEGORIES:
DESCRIPTION:Please join us for our Carols by Candlelight service at 6pm. M
 ince pies and Mulled Winter Punch will be served after the service.
GEO:0.710353;51.353738
LOCATION:Bobbing Church - St Bartholomew
URL:https://www.achurchnearyou.com/church/12132/service-and-events/events/
 1268784/
END:VEVENT
END:VCALENDAR
