BEGIN:VCALENDAR
VERSION:2.0
PRODID:-//achurchnearyou.com//eventfeed//EN
CALSCALE:GREGORIAN
METHOD:PUBLISH
X-WR-TIMEZONE:UTC
BEGIN:VEVENT
SUMMARY:Mothering Sunday Service with Holy Communion
DTSTART:20250330T080000Z
DTEND:20250330T090000Z
DTSTAMP:20260425T010729Z
UID:11758322025-03-30 08:00:00+00:00achurchnearyou
CATEGORIES:
DESCRIPTION:Holy Communion service for Mothering Sunday
GEO:0.731621;51.341551
LOCATION:Holy Trinity Sittingbourne (HTSB)
URL:https://www.achurchnearyou.com/church/12151/service-and-events/events/
 1175832/
END:VEVENT
END:VCALENDAR
