BEGIN:VCALENDAR
VERSION:2.0
PRODID:-//achurchnearyou.com//eventfeed//EN
CALSCALE:GREGORIAN
METHOD:PUBLISH
X-WR-TIMEZONE:UTC
BEGIN:VEVENT
SUMMARY:Mothering Sunday all-age service
DTSTART:20260315T104500Z
DTEND:20260315T120000Z
DTSTAMP:20260423T190619Z
UID:12992442026-03-15 10:45:00+00:00achurchnearyou
CATEGORIES:
DESCRIPTION:Family-friendly contemporary service with sung worship led by 
 a band
GEO:0.731621;51.341551
LOCATION:Holy Trinity Sittingbourne (HTSB)
URL:https://www.achurchnearyou.com/church/12151/service-and-events/events/
 1299244/
END:VEVENT
END:VCALENDAR
