BEGIN:VCALENDAR
VERSION:2.0
PRODID:-//achurchnearyou.com//eventfeed//EN
CALSCALE:GREGORIAN
METHOD:PUBLISH
X-WR-TIMEZONE:UTC
BEGIN:VEVENT
SUMMARY:Holy Communion
DTSTART;TZID=Europe/London:20260517T110000
DTEND;TZID=Europe/London:20260517T114500
DTSTAMP:20260422T172536Z
UID:7328442026-05-17 11:00:00+01:00achurchnearyou
CATEGORIES:
DESCRIPTION:Generally\, there will be three or four hymns/songs. We’re e
 ncouraged to sing praises to God in the bible\, so that’s what we do. Th
 ere will be a couple of readings from the bible\, a short sermon which aim
 s to help unpack the reading and there will be some time for prayer. At th
 is communion service there is a moment where some go up to the altar to re
 ceive bread and wine. This is just to help us feel connected with God and 
 remember Jesus’ death and resurrection.
GEO:0.584407;51.234164
LOCATION:St Mary\, Langley\, Maidstone
URL:http://www.othamlangley.org/churches/langley/
END:VEVENT
BEGIN:VEVENT
SUMMARY:Holy Communion
DTSTART;TZID=Europe/London:20260621T110000
DTEND;TZID=Europe/London:20260621T114500
DTSTAMP:20260422T172536Z
UID:7328442026-06-21 11:00:00+01:00achurchnearyou
CATEGORIES:
DESCRIPTION:Generally\, there will be three or four hymns/songs. We’re e
 ncouraged to sing praises to God in the bible\, so that’s what we do. Th
 ere will be a couple of readings from the bible\, a short sermon which aim
 s to help unpack the reading and there will be some time for prayer. At th
 is communion service there is a moment where some go up to the altar to re
 ceive bread and wine. This is just to help us feel connected with God and 
 remember Jesus’ death and resurrection.
GEO:0.584407;51.234164
LOCATION:St Mary\, Langley\, Maidstone
URL:http://www.othamlangley.org/churches/langley/
END:VEVENT
BEGIN:VEVENT
SUMMARY:Holy Communion
DTSTART;TZID=Europe/London:20260719T110000
DTEND;TZID=Europe/London:20260719T114500
DTSTAMP:20260422T172536Z
UID:7328442026-07-19 11:00:00+01:00achurchnearyou
CATEGORIES:
DESCRIPTION:Generally\, there will be three or four hymns/songs. We’re e
 ncouraged to sing praises to God in the bible\, so that’s what we do. Th
 ere will be a couple of readings from the bible\, a short sermon which aim
 s to help unpack the reading and there will be some time for prayer. At th
 is communion service there is a moment where some go up to the altar to re
 ceive bread and wine. This is just to help us feel connected with God and 
 remember Jesus’ death and resurrection.
GEO:0.584407;51.234164
LOCATION:St Mary\, Langley\, Maidstone
URL:http://www.othamlangley.org/churches/langley/
END:VEVENT
BEGIN:VEVENT
SUMMARY:Holy Communion
DTSTART;TZID=Europe/London:20260816T110000
DTEND;TZID=Europe/London:20260816T114500
DTSTAMP:20260422T172536Z
UID:7328442026-08-16 11:00:00+01:00achurchnearyou
CATEGORIES:
DESCRIPTION:Generally\, there will be three or four hymns/songs. We’re e
 ncouraged to sing praises to God in the bible\, so that’s what we do. Th
 ere will be a couple of readings from the bible\, a short sermon which aim
 s to help unpack the reading and there will be some time for prayer. At th
 is communion service there is a moment where some go up to the altar to re
 ceive bread and wine. This is just to help us feel connected with God and 
 remember Jesus’ death and resurrection.
GEO:0.584407;51.234164
LOCATION:St Mary\, Langley\, Maidstone
URL:http://www.othamlangley.org/churches/langley/
END:VEVENT
BEGIN:VEVENT
SUMMARY:Holy Communion
DTSTART;TZID=Europe/London:20260920T110000
DTEND;TZID=Europe/London:20260920T114500
DTSTAMP:20260422T172536Z
UID:7328442026-09-20 11:00:00+01:00achurchnearyou
CATEGORIES:
DESCRIPTION:Generally\, there will be three or four hymns/songs. We’re e
 ncouraged to sing praises to God in the bible\, so that’s what we do. Th
 ere will be a couple of readings from the bible\, a short sermon which aim
 s to help unpack the reading and there will be some time for prayer. At th
 is communion service there is a moment where some go up to the altar to re
 ceive bread and wine. This is just to help us feel connected with God and 
 remember Jesus’ death and resurrection.
GEO:0.584407;51.234164
LOCATION:St Mary\, Langley\, Maidstone
URL:http://www.othamlangley.org/churches/langley/
END:VEVENT
BEGIN:VEVENT
SUMMARY:Holy Communion
DTSTART;TZID=Europe/London:20261018T110000
DTEND;TZID=Europe/London:20261018T114500
DTSTAMP:20260422T172536Z
UID:7328442026-10-18 11:00:00+01:00achurchnearyou
CATEGORIES:
DESCRIPTION:Generally\, there will be three or four hymns/songs. We’re e
 ncouraged to sing praises to God in the bible\, so that’s what we do. Th
 ere will be a couple of readings from the bible\, a short sermon which aim
 s to help unpack the reading and there will be some time for prayer. At th
 is communion service there is a moment where some go up to the altar to re
 ceive bread and wine. This is just to help us feel connected with God and 
 remember Jesus’ death and resurrection.
GEO:0.584407;51.234164
LOCATION:St Mary\, Langley\, Maidstone
URL:http://www.othamlangley.org/churches/langley/
END:VEVENT
BEGIN:VEVENT
SUMMARY:Holy Communion
DTSTART;TZID=Europe/London:20261115T110000
DTEND;TZID=Europe/London:20261115T114500
DTSTAMP:20260422T172536Z
UID:7328442026-11-15 11:00:00+00:00achurchnearyou
CATEGORIES:
DESCRIPTION:Generally\, there will be three or four hymns/songs. We’re e
 ncouraged to sing praises to God in the bible\, so that’s what we do. Th
 ere will be a couple of readings from the bible\, a short sermon which aim
 s to help unpack the reading and there will be some time for prayer. At th
 is communion service there is a moment where some go up to the altar to re
 ceive bread and wine. This is just to help us feel connected with God and 
 remember Jesus’ death and resurrection.
GEO:0.584407;51.234164
LOCATION:St Mary\, Langley\, Maidstone
URL:http://www.othamlangley.org/churches/langley/
END:VEVENT
BEGIN:VEVENT
SUMMARY:Holy Communion
DTSTART;TZID=Europe/London:20261220T110000
DTEND;TZID=Europe/London:20261220T114500
DTSTAMP:20260422T172536Z
UID:7328442026-12-20 11:00:00+00:00achurchnearyou
CATEGORIES:
DESCRIPTION:Generally\, there will be three or four hymns/songs. We’re e
 ncouraged to sing praises to God in the bible\, so that’s what we do. Th
 ere will be a couple of readings from the bible\, a short sermon which aim
 s to help unpack the reading and there will be some time for prayer. At th
 is communion service there is a moment where some go up to the altar to re
 ceive bread and wine. This is just to help us feel connected with God and 
 remember Jesus’ death and resurrection.
GEO:0.584407;51.234164
LOCATION:St Mary\, Langley\, Maidstone
URL:http://www.othamlangley.org/churches/langley/
END:VEVENT
BEGIN:VEVENT
SUMMARY:Holy Communion
DTSTART;TZID=Europe/London:20270117T110000
DTEND;TZID=Europe/London:20270117T114500
DTSTAMP:20260422T172536Z
UID:7328442027-01-17 11:00:00+00:00achurchnearyou
CATEGORIES:
DESCRIPTION:Generally\, there will be three or four hymns/songs. We’re e
 ncouraged to sing praises to God in the bible\, so that’s what we do. Th
 ere will be a couple of readings from the bible\, a short sermon which aim
 s to help unpack the reading and there will be some time for prayer. At th
 is communion service there is a moment where some go up to the altar to re
 ceive bread and wine. This is just to help us feel connected with God and 
 remember Jesus’ death and resurrection.
GEO:0.584407;51.234164
LOCATION:St Mary\, Langley\, Maidstone
URL:http://www.othamlangley.org/churches/langley/
END:VEVENT
BEGIN:VEVENT
SUMMARY:Holy Communion
DTSTART;TZID=Europe/London:20270221T110000
DTEND;TZID=Europe/London:20270221T114500
DTSTAMP:20260422T172536Z
UID:7328442027-02-21 11:00:00+00:00achurchnearyou
CATEGORIES:
DESCRIPTION:Generally\, there will be three or four hymns/songs. We’re e
 ncouraged to sing praises to God in the bible\, so that’s what we do. Th
 ere will be a couple of readings from the bible\, a short sermon which aim
 s to help unpack the reading and there will be some time for prayer. At th
 is communion service there is a moment where some go up to the altar to re
 ceive bread and wine. This is just to help us feel connected with God and 
 remember Jesus’ death and resurrection.
GEO:0.584407;51.234164
LOCATION:St Mary\, Langley\, Maidstone
URL:http://www.othamlangley.org/churches/langley/
END:VEVENT
BEGIN:VEVENT
SUMMARY:Holy Communion
DTSTART;TZID=Europe/London:20270321T110000
DTEND;TZID=Europe/London:20270321T114500
DTSTAMP:20260422T172536Z
UID:7328442027-03-21 11:00:00+00:00achurchnearyou
CATEGORIES:
DESCRIPTION:Generally\, there will be three or four hymns/songs. We’re e
 ncouraged to sing praises to God in the bible\, so that’s what we do. Th
 ere will be a couple of readings from the bible\, a short sermon which aim
 s to help unpack the reading and there will be some time for prayer. At th
 is communion service there is a moment where some go up to the altar to re
 ceive bread and wine. This is just to help us feel connected with God and 
 remember Jesus’ death and resurrection.
GEO:0.584407;51.234164
LOCATION:St Mary\, Langley\, Maidstone
URL:http://www.othamlangley.org/churches/langley/
END:VEVENT
BEGIN:VEVENT
SUMMARY:Holy Communion
DTSTART;TZID=Europe/London:20270418T110000
DTEND;TZID=Europe/London:20270418T114500
DTSTAMP:20260422T172536Z
UID:7328442027-04-18 11:00:00+01:00achurchnearyou
CATEGORIES:
DESCRIPTION:Generally\, there will be three or four hymns/songs. We’re e
 ncouraged to sing praises to God in the bible\, so that’s what we do. Th
 ere will be a couple of readings from the bible\, a short sermon which aim
 s to help unpack the reading and there will be some time for prayer. At th
 is communion service there is a moment where some go up to the altar to re
 ceive bread and wine. This is just to help us feel connected with God and 
 remember Jesus’ death and resurrection.
GEO:0.584407;51.234164
LOCATION:St Mary\, Langley\, Maidstone
URL:http://www.othamlangley.org/churches/langley/
END:VEVENT
END:VCALENDAR
