BEGIN:VCALENDAR
VERSION:2.0
PRODID:-//achurchnearyou.com//eventfeed//EN
CALSCALE:GREGORIAN
METHOD:PUBLISH
X-WR-TIMEZONE:UTC
BEGIN:VEVENT
SUMMARY:HOLY COMMUNION
DTSTART;TZID=Europe/London:20260401T100000
DTEND;TZID=Europe/London:20260401T104500
DTSTAMP:20260423T085341Z
UID:3208111775034000.0achurchnearyou
CATEGORIES:
DESCRIPTION:First Wednesday with Allington Mothers'  Union.
GEO:0.499763;51.28139
LOCATION:St Nicholas
URL:https://www.achurchnearyou.com/church/12179/service-and-events/events/
 320811/
END:VEVENT
BEGIN:VEVENT
SUMMARY:HOLY COMMUNION
DTSTART;TZID=Europe/London:20260405T100000
DTEND;TZID=Europe/London:20260405T110000
DTSTAMP:20260423T085341Z
UID:2114211775379600.0achurchnearyou
CATEGORIES:
DESCRIPTION:A traditional form of service\, clergy led\, with modern langu
 age\, \nhymns and Holy Communion.
GEO:0.499763;51.28139
LOCATION:St Nicholas
URL:https://www.achurchnearyou.com/church/12179/service-and-events/events/
 211421/
END:VEVENT
BEGIN:VEVENT
SUMMARY:HOLY COMMUNION
DTSTART;TZID=Europe/London:20260412T080000
DTEND;TZID=Europe/London:20260412T084500
DTSTAMP:20260423T085341Z
UID:3181101775977200.0achurchnearyou
CATEGORIES:
DESCRIPTION:A quiet service of communion
GEO:0.499763;51.28139
LOCATION:St Nicholas
URL:https://www.achurchnearyou.com/church/12179/service-and-events/events/
 318110/
END:VEVENT
BEGIN:VEVENT
SUMMARY:Oasis Cafe
DTSTART;TZID=Europe/London:20260412T100000
DTEND;TZID=Europe/London:20260412T110000
DTSTAMP:20260423T085341Z
UID:12515111775984400.0achurchnearyou
CATEGORIES:
DESCRIPTION:A once monthly cafe church service
GEO:0.499763;51.28139
LOCATION:St Nicholas
URL:https://www.achurchnearyou.com/church/12179/service-and-events/events/
 1251511/
END:VEVENT
BEGIN:VEVENT
SUMMARY:OASIS COMMUNION
DTSTART;TZID=Europe/London:20260419T100000
DTEND;TZID=Europe/London:20260419T110000
DTSTAMP:20260423T085341Z
UID:3549321776589200.0achurchnearyou
CATEGORIES:
DESCRIPTION:Clergy led informal style which includes modern worship songs 
 on wall screens
GEO:0.499763;51.28139
LOCATION:St Nicholas
URL:https://www.achurchnearyou.com/church/12179/service-and-events/events/
 354932/
END:VEVENT
BEGIN:VEVENT
SUMMARY:HOLY COMMUNION
DTSTART;TZID=Europe/London:20260426T080000
DTEND;TZID=Europe/London:20260426T084500
DTSTAMP:20260423T085341Z
UID:3181101777186800.0achurchnearyou
CATEGORIES:
DESCRIPTION:A quiet service of communion
GEO:0.499763;51.28139
LOCATION:St Nicholas
URL:https://www.achurchnearyou.com/church/12179/service-and-events/events/
 318110/
END:VEVENT
BEGIN:VEVENT
SUMMARY:MORNING WORSHIP
DTSTART;TZID=Europe/London:20260426T100000
DTEND;TZID=Europe/London:20260426T110000
DTSTAMP:20260423T085341Z
UID:3208041777194000.0achurchnearyou
CATEGORIES:
DESCRIPTION:A lay led form of service with modern language \nand hymns.
GEO:0.499763;51.28139
LOCATION:St Nicholas
URL:https://www.achurchnearyou.com/church/12179/service-and-events/events/
 320804/
END:VEVENT
BEGIN:VEVENT
SUMMARY:HOLY COMMUNION
DTSTART;TZID=Europe/London:20260503T100000
DTEND;TZID=Europe/London:20260503T110000
DTSTAMP:20260423T085341Z
UID:2114211777798800.0achurchnearyou
CATEGORIES:
DESCRIPTION:A traditional form of service\, clergy led\, with modern langu
 age\, \nhymns and Holy Communion.
GEO:0.499763;51.28139
LOCATION:St Nicholas
URL:https://www.achurchnearyou.com/church/12179/service-and-events/events/
 211421/
END:VEVENT
BEGIN:VEVENT
SUMMARY:HOLY COMMUNION
DTSTART;TZID=Europe/London:20260506T100000
DTEND;TZID=Europe/London:20260506T104500
DTSTAMP:20260423T085341Z
UID:3208111778058000.0achurchnearyou
CATEGORIES:
DESCRIPTION:First Wednesday with Allington Mothers'  Union.
GEO:0.499763;51.28139
LOCATION:St Nicholas
URL:https://www.achurchnearyou.com/church/12179/service-and-events/events/
 320811/
END:VEVENT
BEGIN:VEVENT
SUMMARY:HOLY COMMUNION
DTSTART;TZID=Europe/London:20260510T080000
DTEND;TZID=Europe/London:20260510T084500
DTSTAMP:20260423T085341Z
UID:3181101778396400.0achurchnearyou
CATEGORIES:
DESCRIPTION:A quiet service of communion
GEO:0.499763;51.28139
LOCATION:St Nicholas
URL:https://www.achurchnearyou.com/church/12179/service-and-events/events/
 318110/
END:VEVENT
BEGIN:VEVENT
SUMMARY:Oasis Cafe
DTSTART;TZID=Europe/London:20260510T100000
DTEND;TZID=Europe/London:20260510T110000
DTSTAMP:20260423T085341Z
UID:12515111778403600.0achurchnearyou
CATEGORIES:
DESCRIPTION:A once monthly cafe church service
GEO:0.499763;51.28139
LOCATION:St Nicholas
URL:https://www.achurchnearyou.com/church/12179/service-and-events/events/
 1251511/
END:VEVENT
BEGIN:VEVENT
SUMMARY:OASIS COMMUNION
DTSTART;TZID=Europe/London:20260517T100000
DTEND;TZID=Europe/London:20260517T110000
DTSTAMP:20260423T085341Z
UID:3549321779008400.0achurchnearyou
CATEGORIES:
DESCRIPTION:Clergy led informal style which includes modern worship songs 
 on wall screens
GEO:0.499763;51.28139
LOCATION:St Nicholas
URL:https://www.achurchnearyou.com/church/12179/service-and-events/events/
 354932/
END:VEVENT
BEGIN:VEVENT
SUMMARY:HOLY COMMUNION
DTSTART;TZID=Europe/London:20260524T080000
DTEND;TZID=Europe/London:20260524T084500
DTSTAMP:20260423T085341Z
UID:3181101779606000.0achurchnearyou
CATEGORIES:
DESCRIPTION:A quiet service of communion
GEO:0.499763;51.28139
LOCATION:St Nicholas
URL:https://www.achurchnearyou.com/church/12179/service-and-events/events/
 318110/
END:VEVENT
BEGIN:VEVENT
SUMMARY:MORNING WORSHIP
DTSTART;TZID=Europe/London:20260524T100000
DTEND;TZID=Europe/London:20260524T110000
DTSTAMP:20260423T085341Z
UID:3208041779613200.0achurchnearyou
CATEGORIES:
DESCRIPTION:A lay led form of service with modern language \nand hymns.
GEO:0.499763;51.28139
LOCATION:St Nicholas
URL:https://www.achurchnearyou.com/church/12179/service-and-events/events/
 320804/
END:VEVENT
BEGIN:VEVENT
SUMMARY:HOLY COMMUNION
DTSTART;TZID=Europe/London:20260603T100000
DTEND;TZID=Europe/London:20260603T104500
DTSTAMP:20260423T085341Z
UID:3208111780477200.0achurchnearyou
CATEGORIES:
DESCRIPTION:First Wednesday with Allington Mothers'  Union.
GEO:0.499763;51.28139
LOCATION:St Nicholas
URL:https://www.achurchnearyou.com/church/12179/service-and-events/events/
 320811/
END:VEVENT
BEGIN:VEVENT
SUMMARY:HOLY COMMUNION
DTSTART;TZID=Europe/London:20260607T100000
DTEND;TZID=Europe/London:20260607T110000
DTSTAMP:20260423T085341Z
UID:2114211780822800.0achurchnearyou
CATEGORIES:
DESCRIPTION:A traditional form of service\, clergy led\, with modern langu
 age\, \nhymns and Holy Communion.
GEO:0.499763;51.28139
LOCATION:St Nicholas
URL:https://www.achurchnearyou.com/church/12179/service-and-events/events/
 211421/
END:VEVENT
BEGIN:VEVENT
SUMMARY:HOLY COMMUNION
DTSTART;TZID=Europe/London:20260614T080000
DTEND;TZID=Europe/London:20260614T084500
DTSTAMP:20260423T085341Z
UID:3181101781420400.0achurchnearyou
CATEGORIES:
DESCRIPTION:A quiet service of communion
GEO:0.499763;51.28139
LOCATION:St Nicholas
URL:https://www.achurchnearyou.com/church/12179/service-and-events/events/
 318110/
END:VEVENT
BEGIN:VEVENT
SUMMARY:Oasis Cafe
DTSTART;TZID=Europe/London:20260614T100000
DTEND;TZID=Europe/London:20260614T110000
DTSTAMP:20260423T085341Z
UID:12515111781427600.0achurchnearyou
CATEGORIES:
DESCRIPTION:A once monthly cafe church service
GEO:0.499763;51.28139
LOCATION:St Nicholas
URL:https://www.achurchnearyou.com/church/12179/service-and-events/events/
 1251511/
END:VEVENT
BEGIN:VEVENT
SUMMARY:OASIS COMMUNION
DTSTART;TZID=Europe/London:20260621T100000
DTEND;TZID=Europe/London:20260621T110000
DTSTAMP:20260423T085341Z
UID:3549321782032400.0achurchnearyou
CATEGORIES:
DESCRIPTION:Clergy led informal style which includes modern worship songs 
 on wall screens
GEO:0.499763;51.28139
LOCATION:St Nicholas
URL:https://www.achurchnearyou.com/church/12179/service-and-events/events/
 354932/
END:VEVENT
BEGIN:VEVENT
SUMMARY:HOLY COMMUNION
DTSTART;TZID=Europe/London:20260628T080000
DTEND;TZID=Europe/London:20260628T084500
DTSTAMP:20260423T085341Z
UID:3181101782630000.0achurchnearyou
CATEGORIES:
DESCRIPTION:A quiet service of communion
GEO:0.499763;51.28139
LOCATION:St Nicholas
URL:https://www.achurchnearyou.com/church/12179/service-and-events/events/
 318110/
END:VEVENT
BEGIN:VEVENT
SUMMARY:MORNING WORSHIP
DTSTART;TZID=Europe/London:20260628T100000
DTEND;TZID=Europe/London:20260628T110000
DTSTAMP:20260423T085341Z
UID:3208041782637200.0achurchnearyou
CATEGORIES:
DESCRIPTION:A lay led form of service with modern language \nand hymns.
GEO:0.499763;51.28139
LOCATION:St Nicholas
URL:https://www.achurchnearyou.com/church/12179/service-and-events/events/
 320804/
END:VEVENT
BEGIN:VEVENT
SUMMARY:HOLY COMMUNION
DTSTART;TZID=Europe/London:20260701T100000
DTEND;TZID=Europe/London:20260701T104500
DTSTAMP:20260423T085341Z
UID:3208111782896400.0achurchnearyou
CATEGORIES:
DESCRIPTION:First Wednesday with Allington Mothers'  Union.
GEO:0.499763;51.28139
LOCATION:St Nicholas
URL:https://www.achurchnearyou.com/church/12179/service-and-events/events/
 320811/
END:VEVENT
BEGIN:VEVENT
SUMMARY:HOLY COMMUNION
DTSTART;TZID=Europe/London:20260705T100000
DTEND;TZID=Europe/London:20260705T110000
DTSTAMP:20260423T085341Z
UID:2114211783242000.0achurchnearyou
CATEGORIES:
DESCRIPTION:A traditional form of service\, clergy led\, with modern langu
 age\, \nhymns and Holy Communion.
GEO:0.499763;51.28139
LOCATION:St Nicholas
URL:https://www.achurchnearyou.com/church/12179/service-and-events/events/
 211421/
END:VEVENT
BEGIN:VEVENT
SUMMARY:HOLY COMMUNION
DTSTART;TZID=Europe/London:20260712T080000
DTEND;TZID=Europe/London:20260712T084500
DTSTAMP:20260423T085341Z
UID:3181101783839600.0achurchnearyou
CATEGORIES:
DESCRIPTION:A quiet service of communion
GEO:0.499763;51.28139
LOCATION:St Nicholas
URL:https://www.achurchnearyou.com/church/12179/service-and-events/events/
 318110/
END:VEVENT
BEGIN:VEVENT
SUMMARY:Oasis Cafe
DTSTART;TZID=Europe/London:20260712T100000
DTEND;TZID=Europe/London:20260712T110000
DTSTAMP:20260423T085341Z
UID:12515111783846800.0achurchnearyou
CATEGORIES:
DESCRIPTION:A once monthly cafe church service
GEO:0.499763;51.28139
LOCATION:St Nicholas
URL:https://www.achurchnearyou.com/church/12179/service-and-events/events/
 1251511/
END:VEVENT
BEGIN:VEVENT
SUMMARY:OASIS COMMUNION
DTSTART;TZID=Europe/London:20260719T100000
DTEND;TZID=Europe/London:20260719T110000
DTSTAMP:20260423T085341Z
UID:3549321784451600.0achurchnearyou
CATEGORIES:
DESCRIPTION:Clergy led informal style which includes modern worship songs 
 on wall screens
GEO:0.499763;51.28139
LOCATION:St Nicholas
URL:https://www.achurchnearyou.com/church/12179/service-and-events/events/
 354932/
END:VEVENT
BEGIN:VEVENT
SUMMARY:HOLY COMMUNION
DTSTART;TZID=Europe/London:20260726T080000
DTEND;TZID=Europe/London:20260726T084500
DTSTAMP:20260423T085341Z
UID:3181101785049200.0achurchnearyou
CATEGORIES:
DESCRIPTION:A quiet service of communion
GEO:0.499763;51.28139
LOCATION:St Nicholas
URL:https://www.achurchnearyou.com/church/12179/service-and-events/events/
 318110/
END:VEVENT
BEGIN:VEVENT
SUMMARY:MORNING WORSHIP
DTSTART;TZID=Europe/London:20260726T100000
DTEND;TZID=Europe/London:20260726T110000
DTSTAMP:20260423T085341Z
UID:3208041785056400.0achurchnearyou
CATEGORIES:
DESCRIPTION:A lay led form of service with modern language \nand hymns.
GEO:0.499763;51.28139
LOCATION:St Nicholas
URL:https://www.achurchnearyou.com/church/12179/service-and-events/events/
 320804/
END:VEVENT
BEGIN:VEVENT
SUMMARY:HOLY COMMUNION
DTSTART;TZID=Europe/London:20260802T100000
DTEND;TZID=Europe/London:20260802T110000
DTSTAMP:20260423T085341Z
UID:2114211785661200.0achurchnearyou
CATEGORIES:
DESCRIPTION:A traditional form of service\, clergy led\, with modern langu
 age\, \nhymns and Holy Communion.
GEO:0.499763;51.28139
LOCATION:St Nicholas
URL:https://www.achurchnearyou.com/church/12179/service-and-events/events/
 211421/
END:VEVENT
BEGIN:VEVENT
SUMMARY:HOLY COMMUNION
DTSTART;TZID=Europe/London:20260805T100000
DTEND;TZID=Europe/London:20260805T104500
DTSTAMP:20260423T085341Z
UID:3208111785920400.0achurchnearyou
CATEGORIES:
DESCRIPTION:First Wednesday with Allington Mothers'  Union.
GEO:0.499763;51.28139
LOCATION:St Nicholas
URL:https://www.achurchnearyou.com/church/12179/service-and-events/events/
 320811/
END:VEVENT
BEGIN:VEVENT
SUMMARY:HOLY COMMUNION
DTSTART;TZID=Europe/London:20260809T080000
DTEND;TZID=Europe/London:20260809T084500
DTSTAMP:20260423T085341Z
UID:3181101786258800.0achurchnearyou
CATEGORIES:
DESCRIPTION:A quiet service of communion
GEO:0.499763;51.28139
LOCATION:St Nicholas
URL:https://www.achurchnearyou.com/church/12179/service-and-events/events/
 318110/
END:VEVENT
BEGIN:VEVENT
SUMMARY:Oasis Cafe
DTSTART;TZID=Europe/London:20260809T100000
DTEND;TZID=Europe/London:20260809T110000
DTSTAMP:20260423T085341Z
UID:12515111786266000.0achurchnearyou
CATEGORIES:
DESCRIPTION:A once monthly cafe church service
GEO:0.499763;51.28139
LOCATION:St Nicholas
URL:https://www.achurchnearyou.com/church/12179/service-and-events/events/
 1251511/
END:VEVENT
BEGIN:VEVENT
SUMMARY:OASIS COMMUNION
DTSTART;TZID=Europe/London:20260816T100000
DTEND;TZID=Europe/London:20260816T110000
DTSTAMP:20260423T085341Z
UID:3549321786870800.0achurchnearyou
CATEGORIES:
DESCRIPTION:Clergy led informal style which includes modern worship songs 
 on wall screens
GEO:0.499763;51.28139
LOCATION:St Nicholas
URL:https://www.achurchnearyou.com/church/12179/service-and-events/events/
 354932/
END:VEVENT
BEGIN:VEVENT
SUMMARY:HOLY COMMUNION
DTSTART;TZID=Europe/London:20260823T080000
DTEND;TZID=Europe/London:20260823T084500
DTSTAMP:20260423T085341Z
UID:3181101787468400.0achurchnearyou
CATEGORIES:
DESCRIPTION:A quiet service of communion
GEO:0.499763;51.28139
LOCATION:St Nicholas
URL:https://www.achurchnearyou.com/church/12179/service-and-events/events/
 318110/
END:VEVENT
BEGIN:VEVENT
SUMMARY:MORNING WORSHIP
DTSTART;TZID=Europe/London:20260823T100000
DTEND;TZID=Europe/London:20260823T110000
DTSTAMP:20260423T085341Z
UID:3208041787475600.0achurchnearyou
CATEGORIES:
DESCRIPTION:A lay led form of service with modern language \nand hymns.
GEO:0.499763;51.28139
LOCATION:St Nicholas
URL:https://www.achurchnearyou.com/church/12179/service-and-events/events/
 320804/
END:VEVENT
BEGIN:VEVENT
SUMMARY:HOLY COMMUNION
DTSTART;TZID=Europe/London:20260902T100000
DTEND;TZID=Europe/London:20260902T104500
DTSTAMP:20260423T085341Z
UID:3208111788339600.0achurchnearyou
CATEGORIES:
DESCRIPTION:First Wednesday with Allington Mothers'  Union.
GEO:0.499763;51.28139
LOCATION:St Nicholas
URL:https://www.achurchnearyou.com/church/12179/service-and-events/events/
 320811/
END:VEVENT
BEGIN:VEVENT
SUMMARY:HOLY COMMUNION
DTSTART;TZID=Europe/London:20260906T100000
DTEND;TZID=Europe/London:20260906T110000
DTSTAMP:20260423T085341Z
UID:2114211788685200.0achurchnearyou
CATEGORIES:
DESCRIPTION:A traditional form of service\, clergy led\, with modern langu
 age\, \nhymns and Holy Communion.
GEO:0.499763;51.28139
LOCATION:St Nicholas
URL:https://www.achurchnearyou.com/church/12179/service-and-events/events/
 211421/
END:VEVENT
BEGIN:VEVENT
SUMMARY:HOLY COMMUNION
DTSTART;TZID=Europe/London:20260913T080000
DTEND;TZID=Europe/London:20260913T084500
DTSTAMP:20260423T085341Z
UID:3181101789282800.0achurchnearyou
CATEGORIES:
DESCRIPTION:A quiet service of communion
GEO:0.499763;51.28139
LOCATION:St Nicholas
URL:https://www.achurchnearyou.com/church/12179/service-and-events/events/
 318110/
END:VEVENT
BEGIN:VEVENT
SUMMARY:Oasis Cafe
DTSTART;TZID=Europe/London:20260913T100000
DTEND;TZID=Europe/London:20260913T110000
DTSTAMP:20260423T085341Z
UID:12515111789290000.0achurchnearyou
CATEGORIES:
DESCRIPTION:A once monthly cafe church service
GEO:0.499763;51.28139
LOCATION:St Nicholas
URL:https://www.achurchnearyou.com/church/12179/service-and-events/events/
 1251511/
END:VEVENT
BEGIN:VEVENT
SUMMARY:OASIS COMMUNION
DTSTART;TZID=Europe/London:20260920T100000
DTEND;TZID=Europe/London:20260920T110000
DTSTAMP:20260423T085341Z
UID:3549321789894800.0achurchnearyou
CATEGORIES:
DESCRIPTION:Clergy led informal style which includes modern worship songs 
 on wall screens
GEO:0.499763;51.28139
LOCATION:St Nicholas
URL:https://www.achurchnearyou.com/church/12179/service-and-events/events/
 354932/
END:VEVENT
BEGIN:VEVENT
SUMMARY:HOLY COMMUNION
DTSTART;TZID=Europe/London:20260927T080000
DTEND;TZID=Europe/London:20260927T084500
DTSTAMP:20260423T085341Z
UID:3181101790492400.0achurchnearyou
CATEGORIES:
DESCRIPTION:A quiet service of communion
GEO:0.499763;51.28139
LOCATION:St Nicholas
URL:https://www.achurchnearyou.com/church/12179/service-and-events/events/
 318110/
END:VEVENT
BEGIN:VEVENT
SUMMARY:MORNING WORSHIP
DTSTART;TZID=Europe/London:20260927T100000
DTEND;TZID=Europe/London:20260927T110000
DTSTAMP:20260423T085341Z
UID:3208041790499600.0achurchnearyou
CATEGORIES:
DESCRIPTION:A lay led form of service with modern language \nand hymns.
GEO:0.499763;51.28139
LOCATION:St Nicholas
URL:https://www.achurchnearyou.com/church/12179/service-and-events/events/
 320804/
END:VEVENT
END:VCALENDAR
