BEGIN:VCALENDAR
VERSION:2.0
PRODID:-//achurchnearyou.com//eventfeed//EN
CALSCALE:GREGORIAN
METHOD:PUBLISH
X-WR-TIMEZONE:UTC
BEGIN:VEVENT
SUMMARY:Service of The Word
DTSTART;TZID=Europe/London:20251214T100000
DTEND;TZID=Europe/London:20251214T111500
DTSTAMP:20260420T112751Z
UID:12599882025-12-14 10:00:00+00:00achurchnearyou
CATEGORIES:
DESCRIPTION:Morning Worship with Hymns followed by refreshments.
GEO:0.48696;51.267608
LOCATION:St Andrew's Barming Heath
URL:http://www.standrewsbarming.co.uk/
END:VEVENT
BEGIN:VEVENT
SUMMARY:Service of The Word
DTSTART;TZID=Europe/London:20260111T100000
DTEND;TZID=Europe/London:20260111T111500
DTSTAMP:20260420T112751Z
UID:12599882026-01-11 10:00:00+00:00achurchnearyou
CATEGORIES:
DESCRIPTION:Morning Worship with Hymns followed by refreshments.
GEO:0.48696;51.267608
LOCATION:St Andrew's Barming Heath
URL:http://www.standrewsbarming.co.uk/
END:VEVENT
BEGIN:VEVENT
SUMMARY:Service of The Word
DTSTART;TZID=Europe/London:20260208T100000
DTEND;TZID=Europe/London:20260208T111500
DTSTAMP:20260420T112751Z
UID:12599882026-02-08 10:00:00+00:00achurchnearyou
CATEGORIES:
DESCRIPTION:Morning Worship with Hymns followed by refreshments.
GEO:0.48696;51.267608
LOCATION:St Andrew's Barming Heath
URL:http://www.standrewsbarming.co.uk/
END:VEVENT
BEGIN:VEVENT
SUMMARY:Service of The Word
DTSTART;TZID=Europe/London:20260308T100000
DTEND;TZID=Europe/London:20260308T111500
DTSTAMP:20260420T112751Z
UID:12599882026-03-08 10:00:00+00:00achurchnearyou
CATEGORIES:
DESCRIPTION:Morning Worship with Hymns followed by refreshments.
GEO:0.48696;51.267608
LOCATION:St Andrew's Barming Heath
URL:http://www.standrewsbarming.co.uk/
END:VEVENT
BEGIN:VEVENT
SUMMARY:Service of The Word
DTSTART;TZID=Europe/London:20260412T100000
DTEND;TZID=Europe/London:20260412T111500
DTSTAMP:20260420T112751Z
UID:12599882026-04-12 10:00:00+01:00achurchnearyou
CATEGORIES:
DESCRIPTION:Morning Worship with Hymns followed by refreshments.
GEO:0.48696;51.267608
LOCATION:St Andrew's Barming Heath
URL:http://www.standrewsbarming.co.uk/
END:VEVENT
BEGIN:VEVENT
SUMMARY:Service of The Word
DTSTART;TZID=Europe/London:20260510T100000
DTEND;TZID=Europe/London:20260510T111500
DTSTAMP:20260420T112751Z
UID:12599882026-05-10 10:00:00+01:00achurchnearyou
CATEGORIES:
DESCRIPTION:Morning Worship with Hymns followed by refreshments.
GEO:0.48696;51.267608
LOCATION:St Andrew's Barming Heath
URL:http://www.standrewsbarming.co.uk/
END:VEVENT
BEGIN:VEVENT
SUMMARY:Service of The Word
DTSTART;TZID=Europe/London:20260614T100000
DTEND;TZID=Europe/London:20260614T111500
DTSTAMP:20260420T112751Z
UID:12599882026-06-14 10:00:00+01:00achurchnearyou
CATEGORIES:
DESCRIPTION:Morning Worship with Hymns followed by refreshments.
GEO:0.48696;51.267608
LOCATION:St Andrew's Barming Heath
URL:http://www.standrewsbarming.co.uk/
END:VEVENT
BEGIN:VEVENT
SUMMARY:Service of The Word
DTSTART;TZID=Europe/London:20260712T100000
DTEND;TZID=Europe/London:20260712T111500
DTSTAMP:20260420T112751Z
UID:12599882026-07-12 10:00:00+01:00achurchnearyou
CATEGORIES:
DESCRIPTION:Morning Worship with Hymns followed by refreshments.
GEO:0.48696;51.267608
LOCATION:St Andrew's Barming Heath
URL:http://www.standrewsbarming.co.uk/
END:VEVENT
BEGIN:VEVENT
SUMMARY:Service of The Word
DTSTART;TZID=Europe/London:20260809T100000
DTEND;TZID=Europe/London:20260809T111500
DTSTAMP:20260420T112751Z
UID:12599882026-08-09 10:00:00+01:00achurchnearyou
CATEGORIES:
DESCRIPTION:Morning Worship with Hymns followed by refreshments.
GEO:0.48696;51.267608
LOCATION:St Andrew's Barming Heath
URL:http://www.standrewsbarming.co.uk/
END:VEVENT
BEGIN:VEVENT
SUMMARY:Service of The Word
DTSTART;TZID=Europe/London:20260913T100000
DTEND;TZID=Europe/London:20260913T111500
DTSTAMP:20260420T112751Z
UID:12599882026-09-13 10:00:00+01:00achurchnearyou
CATEGORIES:
DESCRIPTION:Morning Worship with Hymns followed by refreshments.
GEO:0.48696;51.267608
LOCATION:St Andrew's Barming Heath
URL:http://www.standrewsbarming.co.uk/
END:VEVENT
BEGIN:VEVENT
SUMMARY:Service of The Word
DTSTART;TZID=Europe/London:20261011T100000
DTEND;TZID=Europe/London:20261011T111500
DTSTAMP:20260420T112751Z
UID:12599882026-10-11 10:00:00+01:00achurchnearyou
CATEGORIES:
DESCRIPTION:Morning Worship with Hymns followed by refreshments.
GEO:0.48696;51.267608
LOCATION:St Andrew's Barming Heath
URL:http://www.standrewsbarming.co.uk/
END:VEVENT
BEGIN:VEVENT
SUMMARY:Service of The Word
DTSTART;TZID=Europe/London:20261108T100000
DTEND;TZID=Europe/London:20261108T111500
DTSTAMP:20260420T112751Z
UID:12599882026-11-08 10:00:00+00:00achurchnearyou
CATEGORIES:
DESCRIPTION:Morning Worship with Hymns followed by refreshments.
GEO:0.48696;51.267608
LOCATION:St Andrew's Barming Heath
URL:http://www.standrewsbarming.co.uk/
END:VEVENT
BEGIN:VEVENT
SUMMARY:Service of The Word
DTSTART;TZID=Europe/London:20261213T100000
DTEND;TZID=Europe/London:20261213T111500
DTSTAMP:20260420T112751Z
UID:12599882026-12-13 10:00:00+00:00achurchnearyou
CATEGORIES:
DESCRIPTION:Morning Worship with Hymns followed by refreshments.
GEO:0.48696;51.267608
LOCATION:St Andrew's Barming Heath
URL:http://www.standrewsbarming.co.uk/
END:VEVENT
BEGIN:VEVENT
SUMMARY:Service of The Word
DTSTART;TZID=Europe/London:20270110T100000
DTEND;TZID=Europe/London:20270110T111500
DTSTAMP:20260420T112751Z
UID:12599882027-01-10 10:00:00+00:00achurchnearyou
CATEGORIES:
DESCRIPTION:Morning Worship with Hymns followed by refreshments.
GEO:0.48696;51.267608
LOCATION:St Andrew's Barming Heath
URL:http://www.standrewsbarming.co.uk/
END:VEVENT
BEGIN:VEVENT
SUMMARY:Service of The Word
DTSTART;TZID=Europe/London:20270214T100000
DTEND;TZID=Europe/London:20270214T111500
DTSTAMP:20260420T112751Z
UID:12599882027-02-14 10:00:00+00:00achurchnearyou
CATEGORIES:
DESCRIPTION:Morning Worship with Hymns followed by refreshments.
GEO:0.48696;51.267608
LOCATION:St Andrew's Barming Heath
URL:http://www.standrewsbarming.co.uk/
END:VEVENT
BEGIN:VEVENT
SUMMARY:Service of The Word
DTSTART;TZID=Europe/London:20270314T100000
DTEND;TZID=Europe/London:20270314T111500
DTSTAMP:20260420T112751Z
UID:12599882027-03-14 10:00:00+00:00achurchnearyou
CATEGORIES:
DESCRIPTION:Morning Worship with Hymns followed by refreshments.
GEO:0.48696;51.267608
LOCATION:St Andrew's Barming Heath
URL:http://www.standrewsbarming.co.uk/
END:VEVENT
BEGIN:VEVENT
SUMMARY:Service of The Word
DTSTART;TZID=Europe/London:20270411T100000
DTEND;TZID=Europe/London:20270411T111500
DTSTAMP:20260420T112751Z
UID:12599882027-04-11 10:00:00+01:00achurchnearyou
CATEGORIES:
DESCRIPTION:Morning Worship with Hymns followed by refreshments.
GEO:0.48696;51.267608
LOCATION:St Andrew's Barming Heath
URL:http://www.standrewsbarming.co.uk/
END:VEVENT
END:VCALENDAR
