BEGIN:VCALENDAR
VERSION:2.0
PRODID:-//achurchnearyou.com//eventfeed//EN
CALSCALE:GREGORIAN
METHOD:PUBLISH
X-WR-TIMEZONE:UTC
BEGIN:VEVENT
SUMMARY:Parish Communion
DTSTART;TZID=Europe/London:20250216T100000
DTEND;TZID=Europe/London:20250216T113000
DTSTAMP:20260421T150101Z
UID:6027502025-02-16 10:00:00+00:00achurchnearyou
CATEGORIES:
DESCRIPTION:Eucharist with Hymns to "Common Worship"
GEO:0.48696;51.267608
LOCATION:St Andrew's Barming Heath
URL:http://www.standrewsbarming.co.uk/index.htm
END:VEVENT
END:VCALENDAR
