BEGIN:VCALENDAR
VERSION:2.0
PRODID:-//achurchnearyou.com//eventfeed//EN
CALSCALE:GREGORIAN
METHOD:PUBLISH
X-WR-TIMEZONE:UTC
BEGIN:VEVENT
SUMMARY:Carols by Candlelight
DTSTART:20251223T193000Z
DTEND:20251223T210000Z
DTSTAMP:20260424T011426Z
UID:12518532025-12-23 19:30:00+00:00achurchnearyou
CATEGORIES:
DESCRIPTION:Traditional Carols Service\n\nThis will be a service led by th
 e Gundolf Consort Choir with Carols sung by the choir and readings.\nAlso 
 there will be traditional carol for all to join in and sing.\nThere will b
 e light refreshments after the service.
GEO:0.5170566965728662;51.2860316062584
LOCATION:St Faith's Church\, Maidstone
URL:https://www.achurchnearyou.com/church/12184/service-and-events/events/
 1251853/
END:VEVENT
END:VCALENDAR
