BEGIN:VCALENDAR
VERSION:2.0
PRODID:-//achurchnearyou.com//eventfeed//EN
CALSCALE:GREGORIAN
METHOD:PUBLISH
X-WR-TIMEZONE:UTC
BEGIN:VEVENT
SUMMARY:Nativity procession and Nativity service
DTSTART:20251224T160000Z
DTEND:20251224T173000Z
DTSTAMP:20260422T110824Z
UID:12641022025-12-24 16:00:00+00:00achurchnearyou
CATEGORIES:
DESCRIPTION:Nativity procession\, meeting at the pond followed by Nativity
  service at St. Mary’s.
GEO:0.461565;51.113634
LOCATION:St Mary's
URL:https://www.achurchnearyou.com/church/12193/service-and-events/events/
 1264102/
END:VEVENT
END:VCALENDAR
