BEGIN:VCALENDAR
VERSION:2.0
PRODID:-//achurchnearyou.com//eventfeed//EN
CALSCALE:GREGORIAN
METHOD:PUBLISH
X-WR-TIMEZONE:UTC
BEGIN:VEVENT
SUMMARY:HOLY SATURDAY
DTSTART:20260404T170000Z
DTEND:20260404T183000Z
DTSTAMP:20260421T054113Z
UID:12848332026-04-04 17:00:00+00:00achurchnearyou
CATEGORIES:
DESCRIPTION:Youth Campfire
GEO:-2.586495;54.527495
LOCATION:St Lawrence's\, Crosby Ravensworth
URL:https://www.achurchnearyou.com/church/12208/service-and-events/events/
 1284833/
END:VEVENT
END:VCALENDAR
