BEGIN:VCALENDAR
VERSION:2.0
PRODID:-//achurchnearyou.com//eventfeed//EN
CALSCALE:GREGORIAN
METHOD:PUBLISH
X-WR-TIMEZONE:UTC
BEGIN:VEVENT
SUMMARY:GOOD FRIDAY
DTSTART;TZID=Europe/London:20260403T183000
DTEND;TZID=Europe/London:20260403T193000
DTSTAMP:20260421T034348Z
UID:12848201775237400.0achurchnearyou
CATEGORIES:
DESCRIPTION:Tenebrae Service
GEO:-2.586495;54.527495
LOCATION:St Lawrence's\, Crosby Ravensworth
URL:https://www.achurchnearyou.com/church/12208/service-and-events/events/
 1284820/
END:VEVENT
BEGIN:VEVENT
SUMMARY:HOLY SATURDAY
DTSTART;TZID=Europe/London:20260404T180000
DTEND;TZID=Europe/London:20260404T193000
DTSTAMP:20260421T034348Z
UID:12848331775322000.0achurchnearyou
CATEGORIES:
DESCRIPTION:Youth Campfire
GEO:-2.586495;54.527495
LOCATION:St Lawrence's\, Crosby Ravensworth
URL:https://www.achurchnearyou.com/church/12208/service-and-events/events/
 1284833/
END:VEVENT
BEGIN:VEVENT
SUMMARY:Joint service
DTSTART;TZID=Europe/London:20260531T110000
DTEND;TZID=Europe/London:20260531T120000
DTSTAMP:20260421T034348Z
UID:10943721780221600.0achurchnearyou
CATEGORIES:
DESCRIPTION:On the fifth Sunday of the month we get together with the othe
 r churches in our benefice. Locations and times may vary.
LOCATION:St Lawrence's\, Crosby Ravensworth
URL:https://www.achurchnearyou.com/church/12208/service-and-events/events/
 1094372/
END:VEVENT
BEGIN:VEVENT
SUMMARY:Joint service
DTSTART;TZID=Europe/London:20260830T110000
DTEND;TZID=Europe/London:20260830T120000
DTSTAMP:20260421T034348Z
UID:10943721788084000.0achurchnearyou
CATEGORIES:
DESCRIPTION:On the fifth Sunday of the month we get together with the othe
 r churches in our benefice. Locations and times may vary.
LOCATION:St Lawrence's\, Crosby Ravensworth
URL:https://www.achurchnearyou.com/church/12208/service-and-events/events/
 1094372/
END:VEVENT
END:VCALENDAR
