BEGIN:VCALENDAR
VERSION:2.0
PRODID:-//achurchnearyou.com//eventfeed//EN
CALSCALE:GREGORIAN
METHOD:PUBLISH
X-WR-TIMEZONE:UTC
BEGIN:VEVENT
SUMMARY:Bible Studies
DTSTART;TZID=Europe/London:20260427T140000
DTEND;TZID=Europe/London:20260427T160000
DTSTAMP:20260424T051048Z
UID:13233542026-04-27 14:00:00+01:00achurchnearyou
CATEGORIES:
DESCRIPTION:Out next 3 monthly Bible Studies/discussion group will be held
  in Dufton Village Hall\, Community Room.  We are currently looking at the
  Seven Signs of John. It doesn’t matter if you can only come to one or t
 wo\, everyone is welcome of any faith or none.
LOCATION:Dufton Village Hall
URL:https://www.achurchnearyou.com/church/12209/service-and-events/events/
 1323354/
END:VEVENT
BEGIN:VEVENT
SUMMARY:Bible Studies
DTSTART;TZID=Europe/London:20260525T140000
DTEND;TZID=Europe/London:20260525T160000
DTSTAMP:20260424T051048Z
UID:13233542026-05-25 14:00:00+01:00achurchnearyou
CATEGORIES:
DESCRIPTION:Out next 3 monthly Bible Studies/discussion group will be held
  in Dufton Village Hall\, Community Room.  We are currently looking at the
  Seven Signs of John. It doesn’t matter if you can only come to one or t
 wo\, everyone is welcome of any faith or none.
LOCATION:Dufton Village Hall
URL:https://www.achurchnearyou.com/church/12209/service-and-events/events/
 1323354/
END:VEVENT
BEGIN:VEVENT
SUMMARY:Bible Studies
DTSTART;TZID=Europe/London:20260629T140000
DTEND;TZID=Europe/London:20260629T160000
DTSTAMP:20260424T051048Z
UID:13233542026-06-29 14:00:00+01:00achurchnearyou
CATEGORIES:
DESCRIPTION:Out next 3 monthly Bible Studies/discussion group will be held
  in Dufton Village Hall\, Community Room.  We are currently looking at the
  Seven Signs of John. It doesn’t matter if you can only come to one or t
 wo\, everyone is welcome of any faith or none.
LOCATION:Dufton Village Hall
URL:https://www.achurchnearyou.com/church/12209/service-and-events/events/
 1323354/
END:VEVENT
END:VCALENDAR
