BEGIN:VCALENDAR
VERSION:2.0
PRODID:-//achurchnearyou.com//eventfeed//EN
CALSCALE:GREGORIAN
METHOD:PUBLISH
X-WR-TIMEZONE:UTC
BEGIN:VEVENT
SUMMARY:All-Age Worship
DTSTART;TZID=Europe/London:20260405T100000
DTEND;TZID=Europe/London:20260405T110000
DTSTAMP:20260424T040035Z
UID:13180551775379600.0achurchnearyou
CATEGORIES:
DESCRIPTION:An Eggcellent Easter Egg Hunt for Easter Sunday morning with f
 amily communion. All ages are welcome and there will be refreshments after
  the service. Do join us for family fun and to celebrate together the good
  news of Easter.
GEO:-2.429628;54.433097
LOCATION:St Oswald\, Ravenstonedale
URL:https://www.achurchnearyou.com/church/12221/service-and-events/events/
 1318055/
END:VEVENT
BEGIN:VEVENT
SUMMARY:All Age Worship
DTSTART;TZID=Europe/London:20260405T100000
DTEND;TZID=Europe/London:20260405T110000
DTSTAMP:20260424T040035Z
UID:4291091775379600.0achurchnearyou
CATEGORIES:
DESCRIPTION:Join us in our family-friendly worship.
GEO:-2.429628;54.433097
LOCATION:St Oswald\, Ravenstonedale
URL:https://www.achurchnearyou.com/church/12221/service-and-events/events/
 429109/
END:VEVENT
BEGIN:VEVENT
SUMMARY:Holy Communion
DTSTART;TZID=Europe/London:20260412T100000
DTEND;TZID=Europe/London:20260412T110000
DTSTAMP:20260424T040035Z
UID:4291101775984400.0achurchnearyou
CATEGORIES:
DESCRIPTION:Holy Communion
GEO:-2.429628;54.433097
LOCATION:St Oswald\, Ravenstonedale
URL:https://www.achurchnearyou.com/church/12221/service-and-events/events/
 429110/
END:VEVENT
BEGIN:VEVENT
SUMMARY:Morning Worship
DTSTART;TZID=Europe/London:20260419T100000
DTEND;TZID=Europe/London:20260419T110000
DTSTAMP:20260424T040035Z
UID:7968531776589200.0achurchnearyou
CATEGORIES:
DESCRIPTION:A contemporary and engaging service of worship with liturgy\, 
 music and prayers.
GEO:-2.429628;54.433097
LOCATION:St Oswald\, Ravenstonedale
URL:https://www.achurchnearyou.com/church/12221/service-and-events/events/
 796853/
END:VEVENT
BEGIN:VEVENT
SUMMARY:Joint Benefice Service
DTSTART;TZID=Europe/London:20260426T103000
DTEND;TZID=Europe/London:20260426T113000
DTSTAMP:20260424T040035Z
UID:4291081777195800.0achurchnearyou
CATEGORIES:
DESCRIPTION:A service across the Benefice
LOCATION:St Oswald\, Ravenstonedale
URL:https://www.achurchnearyou.com/church/12221/service-and-events/events/
 429108/
END:VEVENT
BEGIN:VEVENT
SUMMARY:All Age Worship
DTSTART;TZID=Europe/London:20260503T100000
DTEND;TZID=Europe/London:20260503T110000
DTSTAMP:20260424T040035Z
UID:4291091777798800.0achurchnearyou
CATEGORIES:
DESCRIPTION:Join us in our family-friendly worship.
GEO:-2.429628;54.433097
LOCATION:St Oswald\, Ravenstonedale
URL:https://www.achurchnearyou.com/church/12221/service-and-events/events/
 429109/
END:VEVENT
BEGIN:VEVENT
SUMMARY:Holy Communion
DTSTART;TZID=Europe/London:20260510T100000
DTEND;TZID=Europe/London:20260510T110000
DTSTAMP:20260424T040035Z
UID:4291101778403600.0achurchnearyou
CATEGORIES:
DESCRIPTION:Holy Communion
GEO:-2.429628;54.433097
LOCATION:St Oswald\, Ravenstonedale
URL:https://www.achurchnearyou.com/church/12221/service-and-events/events/
 429110/
END:VEVENT
BEGIN:VEVENT
SUMMARY:Morning Worship
DTSTART;TZID=Europe/London:20260517T100000
DTEND;TZID=Europe/London:20260517T110000
DTSTAMP:20260424T040035Z
UID:7968531779008400.0achurchnearyou
CATEGORIES:
DESCRIPTION:A contemporary and engaging service of worship with liturgy\, 
 music and prayers.
GEO:-2.429628;54.433097
LOCATION:St Oswald\, Ravenstonedale
URL:https://www.achurchnearyou.com/church/12221/service-and-events/events/
 796853/
END:VEVENT
BEGIN:VEVENT
SUMMARY:Joint Benefice Service
DTSTART;TZID=Europe/London:20260524T103000
DTEND;TZID=Europe/London:20260524T113000
DTSTAMP:20260424T040035Z
UID:4291081779615000.0achurchnearyou
CATEGORIES:
DESCRIPTION:A service across the Benefice
LOCATION:St Oswald\, Ravenstonedale
URL:https://www.achurchnearyou.com/church/12221/service-and-events/events/
 429108/
END:VEVENT
BEGIN:VEVENT
SUMMARY:All Age Worship
DTSTART;TZID=Europe/London:20260607T100000
DTEND;TZID=Europe/London:20260607T110000
DTSTAMP:20260424T040035Z
UID:4291091780822800.0achurchnearyou
CATEGORIES:
DESCRIPTION:Join us in our family-friendly worship.
GEO:-2.429628;54.433097
LOCATION:St Oswald\, Ravenstonedale
URL:https://www.achurchnearyou.com/church/12221/service-and-events/events/
 429109/
END:VEVENT
BEGIN:VEVENT
SUMMARY:Holy Communion
DTSTART;TZID=Europe/London:20260614T100000
DTEND;TZID=Europe/London:20260614T110000
DTSTAMP:20260424T040035Z
UID:4291101781427600.0achurchnearyou
CATEGORIES:
DESCRIPTION:Holy Communion
GEO:-2.429628;54.433097
LOCATION:St Oswald\, Ravenstonedale
URL:https://www.achurchnearyou.com/church/12221/service-and-events/events/
 429110/
END:VEVENT
BEGIN:VEVENT
SUMMARY:Morning Worship
DTSTART;TZID=Europe/London:20260621T100000
DTEND;TZID=Europe/London:20260621T110000
DTSTAMP:20260424T040035Z
UID:7968531782032400.0achurchnearyou
CATEGORIES:
DESCRIPTION:A contemporary and engaging service of worship with liturgy\, 
 music and prayers.
GEO:-2.429628;54.433097
LOCATION:St Oswald\, Ravenstonedale
URL:https://www.achurchnearyou.com/church/12221/service-and-events/events/
 796853/
END:VEVENT
BEGIN:VEVENT
SUMMARY:Joint Benefice Service
DTSTART;TZID=Europe/London:20260628T103000
DTEND;TZID=Europe/London:20260628T113000
DTSTAMP:20260424T040035Z
UID:4291081782639000.0achurchnearyou
CATEGORIES:
DESCRIPTION:A service across the Benefice
LOCATION:St Oswald\, Ravenstonedale
URL:https://www.achurchnearyou.com/church/12221/service-and-events/events/
 429108/
END:VEVENT
BEGIN:VEVENT
SUMMARY:All Age Worship
DTSTART;TZID=Europe/London:20260705T100000
DTEND;TZID=Europe/London:20260705T110000
DTSTAMP:20260424T040035Z
UID:4291091783242000.0achurchnearyou
CATEGORIES:
DESCRIPTION:Join us in our family-friendly worship.
GEO:-2.429628;54.433097
LOCATION:St Oswald\, Ravenstonedale
URL:https://www.achurchnearyou.com/church/12221/service-and-events/events/
 429109/
END:VEVENT
BEGIN:VEVENT
SUMMARY:Holy Communion
DTSTART;TZID=Europe/London:20260712T100000
DTEND;TZID=Europe/London:20260712T110000
DTSTAMP:20260424T040035Z
UID:4291101783846800.0achurchnearyou
CATEGORIES:
DESCRIPTION:Holy Communion
GEO:-2.429628;54.433097
LOCATION:St Oswald\, Ravenstonedale
URL:https://www.achurchnearyou.com/church/12221/service-and-events/events/
 429110/
END:VEVENT
BEGIN:VEVENT
SUMMARY:Morning Worship
DTSTART;TZID=Europe/London:20260719T100000
DTEND;TZID=Europe/London:20260719T110000
DTSTAMP:20260424T040035Z
UID:7968531784451600.0achurchnearyou
CATEGORIES:
DESCRIPTION:A contemporary and engaging service of worship with liturgy\, 
 music and prayers.
GEO:-2.429628;54.433097
LOCATION:St Oswald\, Ravenstonedale
URL:https://www.achurchnearyou.com/church/12221/service-and-events/events/
 796853/
END:VEVENT
BEGIN:VEVENT
SUMMARY:Joint Benefice Service
DTSTART;TZID=Europe/London:20260726T103000
DTEND;TZID=Europe/London:20260726T113000
DTSTAMP:20260424T040035Z
UID:4291081785058200.0achurchnearyou
CATEGORIES:
DESCRIPTION:A service across the Benefice
LOCATION:St Oswald\, Ravenstonedale
URL:https://www.achurchnearyou.com/church/12221/service-and-events/events/
 429108/
END:VEVENT
BEGIN:VEVENT
SUMMARY:All Age Worship
DTSTART;TZID=Europe/London:20260802T100000
DTEND;TZID=Europe/London:20260802T110000
DTSTAMP:20260424T040035Z
UID:4291091785661200.0achurchnearyou
CATEGORIES:
DESCRIPTION:Join us in our family-friendly worship.
GEO:-2.429628;54.433097
LOCATION:St Oswald\, Ravenstonedale
URL:https://www.achurchnearyou.com/church/12221/service-and-events/events/
 429109/
END:VEVENT
BEGIN:VEVENT
SUMMARY:Holy Communion
DTSTART;TZID=Europe/London:20260809T100000
DTEND;TZID=Europe/London:20260809T110000
DTSTAMP:20260424T040035Z
UID:4291101786266000.0achurchnearyou
CATEGORIES:
DESCRIPTION:Holy Communion
GEO:-2.429628;54.433097
LOCATION:St Oswald\, Ravenstonedale
URL:https://www.achurchnearyou.com/church/12221/service-and-events/events/
 429110/
END:VEVENT
BEGIN:VEVENT
SUMMARY:Morning Worship
DTSTART;TZID=Europe/London:20260816T100000
DTEND;TZID=Europe/London:20260816T110000
DTSTAMP:20260424T040035Z
UID:7968531786870800.0achurchnearyou
CATEGORIES:
DESCRIPTION:A contemporary and engaging service of worship with liturgy\, 
 music and prayers.
GEO:-2.429628;54.433097
LOCATION:St Oswald\, Ravenstonedale
URL:https://www.achurchnearyou.com/church/12221/service-and-events/events/
 796853/
END:VEVENT
BEGIN:VEVENT
SUMMARY:Joint Benefice Service
DTSTART;TZID=Europe/London:20260823T103000
DTEND;TZID=Europe/London:20260823T113000
DTSTAMP:20260424T040035Z
UID:4291081787477400.0achurchnearyou
CATEGORIES:
DESCRIPTION:A service across the Benefice
LOCATION:St Oswald\, Ravenstonedale
URL:https://www.achurchnearyou.com/church/12221/service-and-events/events/
 429108/
END:VEVENT
BEGIN:VEVENT
SUMMARY:All Age Worship
DTSTART;TZID=Europe/London:20260906T100000
DTEND;TZID=Europe/London:20260906T110000
DTSTAMP:20260424T040035Z
UID:4291091788685200.0achurchnearyou
CATEGORIES:
DESCRIPTION:Join us in our family-friendly worship.
GEO:-2.429628;54.433097
LOCATION:St Oswald\, Ravenstonedale
URL:https://www.achurchnearyou.com/church/12221/service-and-events/events/
 429109/
END:VEVENT
BEGIN:VEVENT
SUMMARY:Holy Communion
DTSTART;TZID=Europe/London:20260913T100000
DTEND;TZID=Europe/London:20260913T110000
DTSTAMP:20260424T040035Z
UID:4291101789290000.0achurchnearyou
CATEGORIES:
DESCRIPTION:Holy Communion
GEO:-2.429628;54.433097
LOCATION:St Oswald\, Ravenstonedale
URL:https://www.achurchnearyou.com/church/12221/service-and-events/events/
 429110/
END:VEVENT
BEGIN:VEVENT
SUMMARY:Morning Worship
DTSTART;TZID=Europe/London:20260920T100000
DTEND;TZID=Europe/London:20260920T110000
DTSTAMP:20260424T040035Z
UID:7968531789894800.0achurchnearyou
CATEGORIES:
DESCRIPTION:A contemporary and engaging service of worship with liturgy\, 
 music and prayers.
GEO:-2.429628;54.433097
LOCATION:St Oswald\, Ravenstonedale
URL:https://www.achurchnearyou.com/church/12221/service-and-events/events/
 796853/
END:VEVENT
BEGIN:VEVENT
SUMMARY:Joint Benefice Service
DTSTART;TZID=Europe/London:20260927T103000
DTEND;TZID=Europe/London:20260927T113000
DTSTAMP:20260424T040035Z
UID:4291081790501400.0achurchnearyou
CATEGORIES:
DESCRIPTION:A service across the Benefice
LOCATION:St Oswald\, Ravenstonedale
URL:https://www.achurchnearyou.com/church/12221/service-and-events/events/
 429108/
END:VEVENT
END:VCALENDAR
