BEGIN:VCALENDAR
VERSION:2.0
PRODID:-//achurchnearyou.com//eventfeed//EN
CALSCALE:GREGORIAN
METHOD:PUBLISH
X-WR-TIMEZONE:UTC
BEGIN:VEVENT
SUMMARY:TALK SERIES AND NIGHT PRAYER (COMPLINE)
DTSTART:20260331T180000Z
DTEND:20260331T190000Z
DTSTAMP:20260421T054118Z
UID:12848142026-03-31 18:00:00+00:00achurchnearyou
CATEGORIES:
DESCRIPTION:WOMEN OF HOLY WEEK: MARY\, MARY & MARY
GEO:-2.726756;54.636405
LOCATION:St Cuthbert's\, Clifton
URL:https://www.achurchnearyou.com/church/12230/service-and-events/events/
 1284814/
END:VEVENT
END:VCALENDAR
