BEGIN:VCALENDAR
VERSION:2.0
PRODID:-//achurchnearyou.com//eventfeed//EN
CALSCALE:GREGORIAN
METHOD:PUBLISH
X-WR-TIMEZONE:UTC
BEGIN:VEVENT
SUMMARY:Annual Parochial Church Meeting
DTSTART:20260527T183000Z
DTEND:20260527T193000Z
DTSTAMP:20260425T044126Z
UID:13238312026-05-27 18:30:00+00:00achurchnearyou
CATEGORIES:
DESCRIPTION:The Annual Parochial Church Meeting for St. Michael's\, Burgh-
 by-Sands will take place on Wednesday 27 May at 7.30pm. Everyone is welcom
 e to attend. There will also be a facility to join on Zoom. If anyone woul
 d like to use Zoom\, that evening\, please email info@eastsolwaychurches.o
 rg.uk and a link will be sent to you.
LOCATION:Burgh Parish Hall
URL:https://www.achurchnearyou.com/church/12267/service-and-events/events/
 1323831/
END:VEVENT
END:VCALENDAR
