BEGIN:VCALENDAR
VERSION:2.0
PRODID:-//achurchnearyou.com//eventfeed//EN
CALSCALE:GREGORIAN
METHOD:PUBLISH
X-WR-TIMEZONE:UTC
BEGIN:VEVENT
SUMMARY:Messy Church
DTSTART:20260322T113000Z
DTEND:20260322T130000Z
DTSTAMP:20260420T012603Z
UID:12869382026-03-22 11:30:00+00:00achurchnearyou
CATEGORIES:
DESCRIPTION:All ages are welcome to this Messy Church event.  There will b
 e a warm welcome\, crafts\, singing\, a bible story\, prayers and food.  T
 he event is free but if you wish to make a contribution to ministry in Arm
 athwaite that is optional.
GEO:-2.7701;54.8082
LOCATION:Christ & St Mary
URL:https://www.achurchnearyou.com/church/12301/service-and-events/events/
 1286938/
END:VEVENT
END:VCALENDAR
