BEGIN:VCALENDAR
VERSION:2.0
PRODID:-//achurchnearyou.com//eventfeed//EN
CALSCALE:GREGORIAN
METHOD:PUBLISH
X-WR-TIMEZONE:UTC
BEGIN:VEVENT
SUMMARY:For the Service information for this week please click on  "MORE I
 NFO" button below
DTSTART;TZID=Europe/London:20260104T110000
DTEND;TZID=Europe/London:20260104T120000
DTSTAMP:20260421T131016Z
UID:11999012026-01-04 11:00:00+00:00achurchnearyou
CATEGORIES:
DESCRIPTION:Culgaith All Saints is part of the East of Eden Mission Commun
 ity to find out about all the services happening this week please visit ht
 tps://eastofedenmc.org.uk/church-chapel-services/
LOCATION:All Saints
URL:https://eastofedenmc.org.uk/church-chapel-services/
END:VEVENT
END:VCALENDAR
