BEGIN:VCALENDAR
VERSION:2.0
PRODID:-//achurchnearyou.com//eventfeed//EN
CALSCALE:GREGORIAN
METHOD:PUBLISH
X-WR-TIMEZONE:UTC
BEGIN:VEVENT
SUMMARY:Cafe church in The Vic
DTSTART:20260301T103000Z
DTEND:20260301T120000Z
DTSTAMP:20260421T092402Z
UID:12815162026-03-01 10:30:00+00:00achurchnearyou
CATEGORIES:
DESCRIPTION:A relaxed style of worship welcome to all
LOCATION:The Vic
URL:https://www.achurchnearyou.com/church/12303/service-and-events/events/
 1281516/
END:VEVENT
END:VCALENDAR
