BEGIN:VCALENDAR
VERSION:2.0
PRODID:-//achurchnearyou.com//eventfeed//EN
CALSCALE:GREGORIAN
METHOD:PUBLISH
X-WR-TIMEZONE:UTC
BEGIN:VEVENT
SUMMARY:Cafe Church in The Vic
DTSTART;TZID=Europe/London:20250928T103000
DTEND;TZID=Europe/London:20250928T113000
DTSTAMP:20260421T164738Z
UID:8920992025-09-28 10:30:00+01:00achurchnearyou
CATEGORIES:
DESCRIPTION:Informal\, lay-led service in the village hall. Held quarterly
  on the fourth Sunday  June\, September and November.
LOCATION:Village Hall
URL:https://www.achurchnearyou.com/church/12303/service-and-events/events/
 892099/
END:VEVENT
BEGIN:VEVENT
SUMMARY:Cafe Church in The Vic
DTSTART;TZID=Europe/London:20251123T103000
DTEND;TZID=Europe/London:20251123T113000
DTSTAMP:20260421T164738Z
UID:8920992025-11-23 10:30:00+00:00achurchnearyou
CATEGORIES:
DESCRIPTION:Informal\, lay-led service in the village hall. Held quarterly
  on the fourth Sunday  June\, September and November.
LOCATION:Village Hall
URL:https://www.achurchnearyou.com/church/12303/service-and-events/events/
 892099/
END:VEVENT
END:VCALENDAR
