BEGIN:VCALENDAR
VERSION:2.0
PRODID:-//achurchnearyou.com//eventfeed//EN
CALSCALE:GREGORIAN
METHOD:PUBLISH
X-WR-TIMEZONE:UTC
BEGIN:VEVENT
SUMMARY:Holy Communion
DTSTART:20250105T093000Z
DTEND:20250105T103000Z
DTSTAMP:20260420T113859Z
UID:11175552025-01-05 09:30:00+00:00achurchnearyou
CATEGORIES:
DESCRIPTION:We join together to welcome the New Year.\nA Common worship se
 rvice.
GEO:-2.838031;54.632028
LOCATION:St Andrew's\, Dacre
URL:https://www.achurchnearyou.com/church/12304/service-and-events/events/
 1117555/
END:VEVENT
END:VCALENDAR
