BEGIN:VCALENDAR
VERSION:2.0
PRODID:-//achurchnearyou.com//eventfeed//EN
CALSCALE:GREGORIAN
METHOD:PUBLISH
X-WR-TIMEZONE:UTC
BEGIN:VEVENT
SUMMARY:Morning worship
DTSTART:20250223T110000Z
DTEND:20250223T120000Z
DTSTAMP:20260420T075410Z
UID:11485172025-02-23 11:00:00+00:00achurchnearyou
CATEGORIES:
DESCRIPTION:Welcome to our morning service.
LOCATION:All Saints
URL:https://www.achurchnearyou.com/church/12304/service-and-events/events/
 1148517/
END:VEVENT
END:VCALENDAR
