BEGIN:VCALENDAR
VERSION:2.0
PRODID:-//achurchnearyou.com//eventfeed//EN
CALSCALE:GREGORIAN
METHOD:PUBLISH
X-WR-TIMEZONE:UTC
BEGIN:VEVENT
SUMMARY:Morning worship & Baptism
DTSTART:20250316T093000Z
DTEND:20250316T103000Z
DTSTAMP:20260420T075439Z
UID:11510502025-03-16 09:30:00+00:00achurchnearyou
CATEGORIES:
DESCRIPTION:We celebrate  a Baptism as part of our morning service.\nRefre
 shments afterwards.\nAll welcome
GEO:-2.838031;54.632028
LOCATION:St Andrew's\, Dacre
URL:https://www.achurchnearyou.com/church/12304/service-and-events/events/
 1151050/
END:VEVENT
END:VCALENDAR
