BEGIN:VCALENDAR
VERSION:2.0
PRODID:-//achurchnearyou.com//eventfeed//EN
CALSCALE:GREGORIAN
METHOD:PUBLISH
X-WR-TIMEZONE:UTC
BEGIN:VEVENT
SUMMARY:Easter Morning Family Holy Communion
DTSTART:20250420T100000Z
DTEND:20250420T110000Z
DTSTAMP:20260420T055511Z
UID:11750362025-04-20 10:00:00+00:00achurchnearyou
CATEGORIES:
DESCRIPTION:We gather for a family Communion service to rejoice in the res
 urrection of Jesus.\nFollowing the service there will be an Easter egg Hun
 t and \nrefreshments provided by Matterdale Community Association.
LOCATION:Matterdale Church
URL:https://www.achurchnearyou.com/church/12304/service-and-events/events/
 1175036/
END:VEVENT
END:VCALENDAR
