BEGIN:VCALENDAR
VERSION:2.0
PRODID:-//achurchnearyou.com//eventfeed//EN
CALSCALE:GREGORIAN
METHOD:PUBLISH
X-WR-TIMEZONE:UTC
BEGIN:VEVENT
SUMMARY:Holy Communion
DTSTART:20250615T083000Z
DTEND:20250615T093000Z
DTSTAMP:20260420T003838Z
UID:12004842025-06-15 08:30:00+00:00achurchnearyou
CATEGORIES:
DESCRIPTION:A 1662 Book of Common Prayer service\nAll welcome
GEO:-2.838031;54.632028
LOCATION:St Andrew's\, Dacre
URL:https://www.achurchnearyou.com/church/12304/service-and-events/events/
 1200484/
END:VEVENT
END:VCALENDAR
