BEGIN:VCALENDAR
VERSION:2.0
PRODID:-//achurchnearyou.com//eventfeed//EN
CALSCALE:GREGORIAN
METHOD:PUBLISH
X-WR-TIMEZONE:UTC
BEGIN:VEVENT
SUMMARY:Evensong
DTSTART:20250629T173000Z
DTEND:20250629T183000Z
DTSTAMP:20260419T210324Z
UID:12004992025-06-29 17:30:00+00:00achurchnearyou
CATEGORIES:
DESCRIPTION:Join us for a service of Evening prayer
GEO:-2.838031;54.632028
LOCATION:St Andrew's\, Dacre
URL:https://www.achurchnearyou.com/church/12304/service-and-events/events/
 1200499/
END:VEVENT
END:VCALENDAR
