BEGIN:VCALENDAR
VERSION:2.0
PRODID:-//achurchnearyou.com//eventfeed//EN
CALSCALE:GREGORIAN
METHOD:PUBLISH
X-WR-TIMEZONE:UTC
BEGIN:VEVENT
SUMMARY:Holy Communion
DTSTART:20250914T100000Z
DTEND:20250914T110000Z
DTSTAMP:20260419T172208Z
UID:12158872025-09-14 10:00:00+00:00achurchnearyou
CATEGORIES:
DESCRIPTION:A Common worship service of Holy Communion\nAll welcome
LOCATION:All Saints
URL:https://www.achurchnearyou.com/church/12304/service-and-events/events/
 1215887/
END:VEVENT
END:VCALENDAR
