BEGIN:VCALENDAR
VERSION:2.0
PRODID:-//achurchnearyou.com//eventfeed//EN
CALSCALE:GREGORIAN
METHOD:PUBLISH
X-WR-TIMEZONE:UTC
BEGIN:VEVENT
SUMMARY:Holy Communion (CW)
DTSTART:20251207T093000Z
DTEND:20251207T103000Z
DTSTAMP:20260424T042503Z
UID:12626512025-12-07 09:30:00+00:00achurchnearyou
CATEGORIES:
DESCRIPTION:No Service at St. John's\, do join us at All Saints Underbarro
 w\nRev. Ian James
LOCATION:All Saints
URL:https://www.achurchnearyou.com/church/12366/service-and-events/events/
 1262651/
END:VEVENT
END:VCALENDAR
