BEGIN:VCALENDAR
VERSION:2.0
PRODID:-//achurchnearyou.com//eventfeed//EN
CALSCALE:GREGORIAN
METHOD:PUBLISH
X-WR-TIMEZONE:UTC
BEGIN:VEVENT
SUMMARY:Evensong and Holy Communion
DTSTART;TZID=Europe/London:20260125T160000
DTEND;TZID=Europe/London:20260125T170000
DTSTAMP:20260424T132842Z
UID:12820342026-01-25 16:00:00+00:00achurchnearyou
CATEGORIES:
DESCRIPTION:Once a month St. Cuthbert's has a service either of Evensong o
 r of Holy Communion during the winter months (when we are on Greenwich Mea
 n Time) the services are usually at 4.00pm and doing the summer months (Br
 itish Summer Time) they are at 6.00pm
GEO:-2.839612;54.429523
LOCATION:St Cuthbert
URL:https://www.achurchnearyou.com/church/12377/service-and-events/events/
 1282034/
END:VEVENT
BEGIN:VEVENT
SUMMARY:Evensong and Holy Communion
DTSTART;TZID=Europe/London:20260222T160000
DTEND;TZID=Europe/London:20260222T170000
DTSTAMP:20260424T132842Z
UID:12820342026-02-22 16:00:00+00:00achurchnearyou
CATEGORIES:
DESCRIPTION:Once a month St. Cuthbert's has a service either of Evensong o
 r of Holy Communion during the winter months (when we are on Greenwich Mea
 n Time) the services are usually at 4.00pm and doing the summer months (Br
 itish Summer Time) they are at 6.00pm
GEO:-2.839612;54.429523
LOCATION:St Cuthbert
URL:https://www.achurchnearyou.com/church/12377/service-and-events/events/
 1282034/
END:VEVENT
BEGIN:VEVENT
SUMMARY:Evensong and Holy Communion
DTSTART;TZID=Europe/London:20260329T160000
DTEND;TZID=Europe/London:20260329T170000
DTSTAMP:20260424T132842Z
UID:12820342026-03-29 16:00:00+01:00achurchnearyou
CATEGORIES:
DESCRIPTION:Once a month St. Cuthbert's has a service either of Evensong o
 r of Holy Communion during the winter months (when we are on Greenwich Mea
 n Time) the services are usually at 4.00pm and doing the summer months (Br
 itish Summer Time) they are at 6.00pm
GEO:-2.839612;54.429523
LOCATION:St Cuthbert
URL:https://www.achurchnearyou.com/church/12377/service-and-events/events/
 1282034/
END:VEVENT
BEGIN:VEVENT
SUMMARY:Evensong and Holy Communion
DTSTART;TZID=Europe/London:20260405T160000
DTEND;TZID=Europe/London:20260405T170000
DTSTAMP:20260424T132842Z
UID:12820342026-04-05 16:00:00+01:00achurchnearyou
CATEGORIES:
DESCRIPTION:Once a month St. Cuthbert's has a service either of Evensong o
 r of Holy Communion during the winter months (when we are on Greenwich Mea
 n Time) the services are usually at 4.00pm and doing the summer months (Br
 itish Summer Time) they are at 6.00pm
GEO:-2.839612;54.429523
LOCATION:St Cuthbert
URL:https://www.achurchnearyou.com/church/12377/service-and-events/events/
 1282034/
END:VEVENT
BEGIN:VEVENT
SUMMARY:Evensong and Holy Communion
DTSTART;TZID=Europe/London:20260426T160000
DTEND;TZID=Europe/London:20260426T170000
DTSTAMP:20260424T132842Z
UID:12820342026-04-26 16:00:00+01:00achurchnearyou
CATEGORIES:
DESCRIPTION:Once a month St. Cuthbert's has a service either of Evensong o
 r of Holy Communion during the winter months (when we are on Greenwich Mea
 n Time) the services are usually at 4.00pm and doing the summer months (Br
 itish Summer Time) they are at 6.00pm
GEO:-2.839612;54.429523
LOCATION:St Cuthbert
URL:https://www.achurchnearyou.com/church/12377/service-and-events/events/
 1282034/
END:VEVENT
BEGIN:VEVENT
SUMMARY:Evensong and Holy Communion
DTSTART;TZID=Europe/London:20260524T160000
DTEND;TZID=Europe/London:20260524T170000
DTSTAMP:20260424T132842Z
UID:12820342026-05-24 16:00:00+01:00achurchnearyou
CATEGORIES:
DESCRIPTION:Once a month St. Cuthbert's has a service either of Evensong o
 r of Holy Communion during the winter months (when we are on Greenwich Mea
 n Time) the services are usually at 4.00pm and doing the summer months (Br
 itish Summer Time) they are at 6.00pm
GEO:-2.839612;54.429523
LOCATION:St Cuthbert
URL:https://www.achurchnearyou.com/church/12377/service-and-events/events/
 1282034/
END:VEVENT
BEGIN:VEVENT
SUMMARY:Evensong and Holy Communion
DTSTART;TZID=Europe/London:20260628T160000
DTEND;TZID=Europe/London:20260628T170000
DTSTAMP:20260424T132842Z
UID:12820342026-06-28 16:00:00+01:00achurchnearyou
CATEGORIES:
DESCRIPTION:Once a month St. Cuthbert's has a service either of Evensong o
 r of Holy Communion during the winter months (when we are on Greenwich Mea
 n Time) the services are usually at 4.00pm and doing the summer months (Br
 itish Summer Time) they are at 6.00pm
GEO:-2.839612;54.429523
LOCATION:St Cuthbert
URL:https://www.achurchnearyou.com/church/12377/service-and-events/events/
 1282034/
END:VEVENT
BEGIN:VEVENT
SUMMARY:Evensong and Holy Communion
DTSTART;TZID=Europe/London:20260726T160000
DTEND;TZID=Europe/London:20260726T170000
DTSTAMP:20260424T132842Z
UID:12820342026-07-26 16:00:00+01:00achurchnearyou
CATEGORIES:
DESCRIPTION:Once a month St. Cuthbert's has a service either of Evensong o
 r of Holy Communion during the winter months (when we are on Greenwich Mea
 n Time) the services are usually at 4.00pm and doing the summer months (Br
 itish Summer Time) they are at 6.00pm
GEO:-2.839612;54.429523
LOCATION:St Cuthbert
URL:https://www.achurchnearyou.com/church/12377/service-and-events/events/
 1282034/
END:VEVENT
BEGIN:VEVENT
SUMMARY:Evensong and Holy Communion
DTSTART;TZID=Europe/London:20260927T160000
DTEND;TZID=Europe/London:20260927T170000
DTSTAMP:20260424T132842Z
UID:12820342026-09-27 16:00:00+01:00achurchnearyou
CATEGORIES:
DESCRIPTION:Once a month St. Cuthbert's has a service either of Evensong o
 r of Holy Communion during the winter months (when we are on Greenwich Mea
 n Time) the services are usually at 4.00pm and doing the summer months (Br
 itish Summer Time) they are at 6.00pm
GEO:-2.839612;54.429523
LOCATION:St Cuthbert
URL:https://www.achurchnearyou.com/church/12377/service-and-events/events/
 1282034/
END:VEVENT
BEGIN:VEVENT
SUMMARY:Evensong and Holy Communion
DTSTART;TZID=Europe/London:20261025T160000
DTEND;TZID=Europe/London:20261025T170000
DTSTAMP:20260424T132842Z
UID:12820342026-10-25 16:00:00+00:00achurchnearyou
CATEGORIES:
DESCRIPTION:Once a month St. Cuthbert's has a service either of Evensong o
 r of Holy Communion during the winter months (when we are on Greenwich Mea
 n Time) the services are usually at 4.00pm and doing the summer months (Br
 itish Summer Time) they are at 6.00pm
GEO:-2.839612;54.429523
LOCATION:St Cuthbert
URL:https://www.achurchnearyou.com/church/12377/service-and-events/events/
 1282034/
END:VEVENT
BEGIN:VEVENT
SUMMARY:Evensong and Holy Communion
DTSTART;TZID=Europe/London:20261122T160000
DTEND;TZID=Europe/London:20261122T170000
DTSTAMP:20260424T132842Z
UID:12820342026-11-22 16:00:00+00:00achurchnearyou
CATEGORIES:
DESCRIPTION:Once a month St. Cuthbert's has a service either of Evensong o
 r of Holy Communion during the winter months (when we are on Greenwich Mea
 n Time) the services are usually at 4.00pm and doing the summer months (Br
 itish Summer Time) they are at 6.00pm
GEO:-2.839612;54.429523
LOCATION:St Cuthbert
URL:https://www.achurchnearyou.com/church/12377/service-and-events/events/
 1282034/
END:VEVENT
BEGIN:VEVENT
SUMMARY:Evensong and Holy Communion
DTSTART;TZID=Europe/London:20261224T160000
DTEND;TZID=Europe/London:20261224T170000
DTSTAMP:20260424T132842Z
UID:12820342026-12-24 16:00:00+00:00achurchnearyou
CATEGORIES:
DESCRIPTION:Once a month St. Cuthbert's has a service either of Evensong o
 r of Holy Communion during the winter months (when we are on Greenwich Mea
 n Time) the services are usually at 4.00pm and doing the summer months (Br
 itish Summer Time) they are at 6.00pm
GEO:-2.839612;54.429523
LOCATION:St Cuthbert
URL:https://www.achurchnearyou.com/church/12377/service-and-events/events/
 1282034/
END:VEVENT
END:VCALENDAR
