BEGIN:VCALENDAR
VERSION:2.0
PRODID:-//achurchnearyou.com//eventfeed//EN
CALSCALE:GREGORIAN
METHOD:PUBLISH
X-WR-TIMEZONE:UTC
BEGIN:VEVENT
SUMMARY:Three Hours at the Cross
DTSTART:20260403T110000Z
DTEND:20260403T140000Z
DTSTAMP:20260425T173132Z
UID:13117962026-04-03 11:00:00+00:00achurchnearyou
CATEGORIES:
DESCRIPTION:Reflection and Hymns for Good Friday
GEO:-2.737269;54.296166
LOCATION:St Mark's Church
URL:https://www.achurchnearyou.com/church/12388/service-and-events/events/
 1311796/
END:VEVENT
END:VCALENDAR
