BEGIN:VCALENDAR
VERSION:2.0
PRODID:-//achurchnearyou.com//eventfeed//EN
CALSCALE:GREGORIAN
METHOD:PUBLISH
X-WR-TIMEZONE:UTC
BEGIN:VEVENT
SUMMARY:Morning Worship
DTSTART:20260111T100000Z
DTEND:20260111T110000Z
DTSTAMP:20260424T030611Z
UID:12434022026-01-11 10:00:00+00:00achurchnearyou
CATEGORIES:
DESCRIPTION:A service of Morning Worship using Common Worship liturgy and 
 including hymns.
LOCATION:Holy Trinity\, Colton
URL:https://www.achurchnearyou.com/church/12401/service-and-events/events/
 1243402/
END:VEVENT
END:VCALENDAR
