BEGIN:VCALENDAR
VERSION:2.0
PRODID:-//achurchnearyou.com//eventfeed//EN
CALSCALE:GREGORIAN
METHOD:PUBLISH
X-WR-TIMEZONE:UTC
BEGIN:VEVENT
SUMMARY:Post Christmas Communion
DTSTART:20251228T110000Z
DTEND:20251228T120000Z
DTSTAMP:20260422T113902Z
UID:12587762025-12-28 11:00:00+00:00achurchnearyou
CATEGORIES:
DESCRIPTION:On Low Sunday (the Sunday after Christmas) we take things a li
 ttle easy\, so this service will be a low-key affair. But you'll still fin
 d a warm welcome if you come and join us.
GEO:-2.970985;54.28221
LOCATION:St Peter's Finsthwaite
URL:https://www.achurchnearyou.com/church/12403/service-and-events/events/
 1258776/
END:VEVENT
END:VCALENDAR
