BEGIN:VCALENDAR
VERSION:2.0
PRODID:-//achurchnearyou.com//eventfeed//EN
CALSCALE:GREGORIAN
METHOD:PUBLISH
X-WR-TIMEZONE:UTC
BEGIN:VEVENT
SUMMARY:Holy Communion
DTSTART:20251225T100000Z
DTEND:20251225T110000Z
DTSTAMP:20260423T203523Z
UID:12646862025-12-25 10:00:00+00:00achurchnearyou
CATEGORIES:
DESCRIPTION:Holy Communion service for Christmas Day
GEO:-2.921058;54.364117
LOCATION:St Martin's
URL:https://www.achurchnearyou.com/church/12421/service-and-events/events/
 1264686/
END:VEVENT
END:VCALENDAR
