BEGIN:VCALENDAR
VERSION:2.0
PRODID:-//achurchnearyou.com//eventfeed//EN
CALSCALE:GREGORIAN
METHOD:PUBLISH
X-WR-TIMEZONE:UTC
BEGIN:VEVENT
SUMMARY:Annual Meetings
DTSTART:20250428T180000Z
DTEND:20250428T200000Z
DTSTAMP:20260422T174554Z
UID:11585652025-04-28 18:00:00+00:00achurchnearyou
CATEGORIES:
DESCRIPTION:The annual Vestry Meeting to elect the Churchwardens\, will be
  followed by the Annual meeting to elect members of the Parochial Church C
 ouncil for Lamplugh with Ennerdale and receive the Annual Report\, held co
 ncurrently with the AGM of the Lamplugh\, Kirkland and Ennerdale Local Ecu
 menical Partnership.
GEO:-3.435;54.549302
LOCATION:Kirkland Mission Church
URL:https://www.achurchnearyou.com/church/12457/service-and-events/events/
 1158565/
END:VEVENT
END:VCALENDAR
