BEGIN:VCALENDAR
VERSION:2.0
PRODID:-//achurchnearyou.com//eventfeed//EN
CALSCALE:GREGORIAN
METHOD:PUBLISH
X-WR-TIMEZONE:UTC
BEGIN:VEVENT
SUMMARY:Wednesday 24 December 2025 CHRISTINGLE 3:30PM
DTSTART:20251224T153000Z
DTEND:20251224T163000Z
DTSTAMP:20260423T232602Z
UID:12603792025-12-24 15:30:00+00:00achurchnearyou
CATEGORIES:
DESCRIPTION:Christmas Eve Christingle service for all the family followed 
 by refreshments.
GEO:-3.575228;54.574223
LOCATION:St Bridget’s Moresby
URL:https://www.achurchnearyou.com/church/12460/service-and-events/events/
 1260379/
END:VEVENT
END:VCALENDAR
