BEGIN:VCALENDAR
VERSION:2.0
PRODID:-//achurchnearyou.com//eventfeed//EN
CALSCALE:GREGORIAN
METHOD:PUBLISH
X-WR-TIMEZONE:UTC
BEGIN:VEVENT
SUMMARY:Holy Week - Monday
DTSTART:20260330T180000Z
DTEND:20260330T190000Z
DTSTAMP:20260424T004830Z
UID:13134002026-03-30 18:00:00+00:00achurchnearyou
CATEGORIES:
DESCRIPTION:An evening service of meditation for Holy Week at Aspatria Met
 hodist Church
LOCATION:Aspatria Methodist Church
URL:https://www.achurchnearyou.com/church/12515/service-and-events/events/
 1313400/
END:VEVENT
END:VCALENDAR
