BEGIN:VCALENDAR
VERSION:2.0
PRODID:-//achurchnearyou.com//eventfeed//EN
CALSCALE:GREGORIAN
METHOD:PUBLISH
X-WR-TIMEZONE:UTC
BEGIN:VEVENT
SUMMARY:Easter Night Vigil
DTSTART:20250419T180000Z
DTEND:20250419T190000Z
DTSTAMP:20260425T160539Z
UID:11894782025-04-19 18:00:00+00:00achurchnearyou
CATEGORIES:
DESCRIPTION:Communion service
GEO:-3.372243;54.730853
LOCATION:St Mary
URL:https://www.achurchnearyou.com/church/12519/service-and-events/events/
 1189478/
END:VEVENT
END:VCALENDAR
